BEGIN:VCALENDAR
VERSION:2.0
PRODID:-//ChamberMaster//Event Calendar 2.0//EN
METHOD:PUBLISH
X-PUBLISHED-TTL:P3D
REFRESH-INTERVAL:P3D
CALSCALE:GREGORIAN
BEGIN:VEVENT
DTSTART:20250705T170000Z
DTEND:20250705T180000Z
X-MICROSOFT-CDO-ALLDAYEVENT:FALSE
SUMMARY:13th Annual Lake St.Catherine Boat Parade
DESCRIPTION:We all know how fun it is to watch the boat parade\, but it's even more fun to be part of it!\n\nAs we did last year\, we'll take photos of all participants\, and we'll have a lake-wide online vote to decide the winner.\n\nOur categories are:\n\n\n	Most Original\n	Most Patriotic\n	Funniest\n	Best Overall\n\n\nIf you'd like to register your boat\, please email us at info@lakestcatherine.org with your name\, phone number\, and boat name or theme. We'll get you signed up and will reply back with your boat number\, and give you all the details on how to participate.
X-ALT-DESC;FMTTYPE=text/html:<p style="box-sizing: border-box\; margin: 0px 0px 20px\; padding: 0px\; border: 0px\; outline: 0px\; font-variant-numeric: inherit\; font-variant-east-asian: inherit\; font-variant-alternates: inherit\; font-variant-position: inherit\; font-variant-emoji: inherit\; font-stretch: inherit\; line-height: 1.8\; font-optical-sizing: inherit\; font-size-adjust: inherit\; font-kerning: inherit\; font-feature-settings: inherit\; font-variation-settings: inherit\; vertical-align: baseline\; font-family: Raleway\, sans-serif\; font-size: 14px\; color: rgb(97\, 97\, 97)\;">We all know how fun it is to watch the boat parade\, but it&rsquo\;s even more fun to be part of it!</p>\n\n<p style="box-sizing: border-box\; margin: 0px 0px 20px\; padding: 0px\; border: 0px\; outline: 0px\; font-variant-numeric: inherit\; font-variant-east-asian: inherit\; font-variant-alternates: inherit\; font-variant-position: inherit\; font-variant-emoji: inherit\; font-stretch: inherit\; line-height: 1.8\; font-optical-sizing: inherit\; font-size-adjust: inherit\; font-kerning: inherit\; font-feature-settings: inherit\; font-variation-settings: inherit\; vertical-align: baseline\; font-family: Raleway\, sans-serif\; font-size: 14px\; color: rgb(97\, 97\, 97)\;">As we did last year\, we&rsquo\;ll take photos of all participants\, and we&rsquo\;ll have a lake-wide online vote to decide the winner.</p>\n\n<p style="box-sizing: border-box\; margin: 0px 0px 20px\; padding: 0px\; border: 0px\; outline: 0px\; font-variant-numeric: inherit\; font-variant-east-asian: inherit\; font-variant-alternates: inherit\; font-variant-position: inherit\; font-variant-emoji: inherit\; font-stretch: inherit\; line-height: 1.8\; font-optical-sizing: inherit\; font-size-adjust: inherit\; font-kerning: inherit\; font-feature-settings: inherit\; font-variation-settings: inherit\; vertical-align: baseline\; font-family: Raleway\, sans-serif\; font-size: 14px\; color: rgb(97\, 97\, 97)\;">Our categories are:</p>\n\n<ul class="wp-block-list" style="box-sizing: border-box\; margin: 15px 0px 15px 20px\; padding-right: 0px\; padding-left: 0px\; border: 0px\; outline: 0px\; font-variant-numeric: inherit\; font-variant-east-asian: inherit\; font-variant-alternates: inherit\; font-variant-position: inherit\; font-variant-emoji: inherit\; font-stretch: inherit\; line-height: inherit\; font-optical-sizing: inherit\; font-size-adjust: inherit\; font-kerning: inherit\; font-feature-settings: inherit\; font-variation-settings: inherit\; vertical-align: baseline\; font-family: Raleway\, sans-serif\; font-size: 14px\; color: rgb(98\, 98\, 98)\;">\n	<li style="box-sizing: border-box\; margin: 0px\; padding: 0px\; border: 0px\; outline: 0px\; font-variant: inherit\; font-stretch: inherit\; line-height: 1.8\; font-optical-sizing: inherit\; font-size-adjust: inherit\; font-kerning: inherit\; font-feature-settings: inherit\; font-variation-settings: inherit\; vertical-align: baseline\; font-family: inherit\; font-style: inherit\; color: rgb(97\, 97\, 97)\;">Most Original</li>\n	<li style="box-sizing: border-box\; margin: 0px\; padding: 0px\; border: 0px\; outline: 0px\; font-variant: inherit\; font-stretch: inherit\; line-height: 1.8\; font-optical-sizing: inherit\; font-size-adjust: inherit\; font-kerning: inherit\; font-feature-settings: inherit\; font-variation-settings: inherit\; vertical-align: baseline\; font-family: inherit\; font-style: inherit\; color: rgb(97\, 97\, 97)\;">Most Patriotic</li>\n	<li style="box-sizing: border-box\; margin: 0px\; padding: 0px\; border: 0px\; outline: 0px\; font-variant: inherit\; font-stretch: inherit\; line-height: 1.8\; font-optical-sizing: inherit\; font-size-adjust: inherit\; font-kerning: inherit\; font-feature-settings: inherit\; font-variation-settings: inherit\; vertical-align: baseline\; font-family: inherit\; font-style: inherit\; color: rgb(97\, 97\, 97)\;">Funniest</li>\n	<li style="box-sizing: border-box\; margin: 0px\; padding: 0px\; border: 0px\; outline: 0px\; font-variant: inherit\; font-stretch: inherit\; line-height: 1.8\; font-optical-sizing: inherit\; font-size-adjust: inherit\; font-kerning: inherit\; font-feature-settings: inherit\; font-variation-settings: inherit\; vertical-align: baseline\; font-family: inherit\; font-style: inherit\; color: rgb(97\, 97\, 97)\;">Best Overall</li>\n</ul>\n\n<p style="box-sizing: border-box\; margin: 0px 0px 20px\; padding: 0px\; border: 0px\; outline: 0px\; font-variant-numeric: inherit\; font-variant-east-asian: inherit\; font-variant-alternates: inherit\; font-variant-position: inherit\; font-variant-emoji: inherit\; font-stretch: inherit\; line-height: 1.8\; font-optical-sizing: inherit\; font-size-adjust: inherit\; font-kerning: inherit\; font-feature-settings: inherit\; font-variation-settings: inherit\; vertical-align: baseline\; font-family: Raleway\, sans-serif\; font-size: 14px\; color: rgb(97\, 97\, 97)\;">If you&rsquo\;d like to register your boat\, please email us at&nbsp\;<a href="mailto:info@lakestcatherine.org" rel="noreferrer noopener" style="box-sizing: border-box\; margin: 0px\; padding: 0px\; border: 0px\; outline: 0px\; font-variant: inherit\; font-stretch: inherit\; line-height: inherit\; font-optical-sizing: inherit\; font-size-adjust: inherit\; font-kerning: inherit\; font-feature-settings: inherit\; font-variation-settings: inherit\; vertical-align: baseline\; font-style: inherit\; font-weight: inherit\; background-color: rgba(0\, 0\, 0\, 0)\; color: rgb(51\, 51\, 51)\; text-decoration-line: none\; transition: 0.3s\;" target="_blank">info@lakestcatherine.org</a>&nbsp\;with your name\, phone number\, and boat name or theme. We&rsquo\;ll get you signed up and will reply back with your boat number\, and give you all the details on how to participate.</p>\n
LOCATION:Lake St. Catherine 3034 VT Rte. 30\, Poultney\, VT 05764
UID:e.3464.9666
SEQUENCE:3
DTSTAMP:20260421T120524Z
URL:https://members.rutlandvermont.com/events/details/13th-annual-lake-st-catherine-boat-parade-9666
END:VEVENT

END:VCALENDAR
