BEGIN:VCALENDAR
VERSION:2.0
PRODID:-//ChamberMaster//Event Calendar 2.0//EN
METHOD:PUBLISH
X-PUBLISHED-TTL:P3D
REFRESH-INTERVAL:P3D
CALSCALE:GREGORIAN
BEGIN:VEVENT
DTSTART;VALUE=DATE:20250812
DTEND;VALUE=DATE:20250817
TRANSP:TRANSPARENT
X-MICROSOFT-CDO-ALLDAYEVENT:TRUE
SUMMARY:179th VT State Fair
DESCRIPTION:About The Vermont State Fair\n\nThe Vermont State Fair is an agricultural fair managed by The Rutland County Agricultural Society.\n\nThe first Vermont State Fair took place in 1846\, making it one of the oldest state fairs in the United States. Originally named the Rutland State Fair\, the event started out as a one day event. The first fair took place in a field near Castleton\, with Fredrick Button as the first President of the Rutland County Agricultural Society.\n\nThe fair became popular enough that\, in 1849\, the Rutland Railroad began putting extra cars on their trains to bring people from all over Vermont and Western New York to visit. After moving around Rutland County for a few years\, the Rutland Fair grew closer to Rutland City\, sometimes setting up on land owned by John Cain (now Grove Street\, north of Crescent) or on the old Baxter Estate.\n\nThe Fair was given a permanent home in 1856. The land at 175 South Main Street in Rutland\, VT was originally known as the Rutland County Park. The fair\, which was officially renamed in 1972 as the "Vermont State Fair" is still held at this location today.\n\nThe Fair has had top name entertainers that included Loretta Lynn\, Buck Owens\, Roy Rogers\, Dale Evans\, Conway Twitty\, Ronnie Milsap\, Charlie Pride\, Tanya Tucker\, Travis Tritt\, Charlie Daniels Band\, Vince Gill\, Scotty McCreery\, and Jeff Dunham.
X-ALT-DESC;FMTTYPE=text/html:<h1 style="color: rgb(0\, 0\, 0)\; font-family: &quot\;Times New Roman&quot\;\;">About The Vermont State Fair</h1>\n\n<p style="color: rgb(0\, 0\, 0)\; font-family: &quot\;Times New Roman&quot\;\; font-size: medium\;">The Vermont State Fair is an agricultural fair managed by The Rutland County Agricultural Society.</p>\n\n<p style="color: rgb(0\, 0\, 0)\; font-family: &quot\;Times New Roman&quot\;\; font-size: medium\;">The first Vermont State Fair took place in 1846\, making it one of the oldest state fairs in the United States. Originally named the Rutland State Fair\, the event started out as a one day event. The first fair took place in a field near Castleton\, with Fredrick Button as the first President of the Rutland County Agricultural Society.</p>\n\n<p style="color: rgb(0\, 0\, 0)\; font-family: &quot\;Times New Roman&quot\;\; font-size: medium\;">The fair became popular enough that\, in 1849\, the Rutland Railroad began putting extra cars on their trains to bring people from all over Vermont and Western New York to visit. After moving around Rutland County for a few years\, the Rutland Fair grew closer to Rutland City\, sometimes setting up on land owned by John Cain (now Grove Street\, north of Crescent) or on the old Baxter Estate.</p>\n\n<p style="color: rgb(0\, 0\, 0)\; font-family: &quot\;Times New Roman&quot\;\; font-size: medium\;">The Fair was given a permanent home in 1856. The land at 175 South Main Street in Rutland\, VT was originally known as the Rutland County Park. The fair\, which was officially renamed in 1972 as the &quot\;Vermont State Fair&quot\; is still held at this location today.</p>\n\n<p style="color: rgb(0\, 0\, 0)\; font-family: &quot\;Times New Roman&quot\;\; font-size: medium\;">The Fair has had top name entertainers that included Loretta Lynn\, Buck Owens\, Roy Rogers\, Dale Evans\, Conway Twitty\, Ronnie Milsap\, Charlie Pride\, Tanya Tucker\, Travis Tritt\, Charlie Daniels Band\, Vince Gill\, Scotty McCreery\, and Jeff Dunham.</p>\n
LOCATION:
UID:e.3464.9658
SEQUENCE:3
DTSTAMP:20260421T132103Z
URL:https://members.rutlandvermont.com/events/details/179th-vt-state-fair-9658
END:VEVENT

END:VCALENDAR
