BEGIN:VCALENDAR
VERSION:2.0
PRODID:-//ChamberMaster//Event Calendar 2.0//EN
METHOD:PUBLISH
X-PUBLISHED-TTL:P3D
REFRESH-INTERVAL:P3D
CALSCALE:GREGORIAN
BEGIN:VEVENT
DTSTART:20211221T220000Z
DTEND:20211221T230000Z
X-MICROSOFT-CDO-ALLDAYEVENT:FALSE
SUMMARY:23rd Annual Candlelight Vigil
DESCRIPTION:This year marks our 23rd annual candlelight vigil. Please join us for a short reading to help us remember the human face of homelessness. Come stand in solidarity with our poorest neighbors .\n\nHot Cocoa & Hot Cider\n\nwill be provided.
X-ALT-DESC;FMTTYPE=text/html:<div class="kvgmc6g5 cxmmr5t8 oygrvhab hcukyx3x c1et5uql" style="overflow-wrap: break-word\; margin: 0px\; font-family: &quot\;Segoe UI Historic&quot\;\, &quot\;Segoe UI&quot\;\, Helvetica\, Arial\, sans-serif\; color: rgb(5\, 5\, 5)\; font-size: 15px\;">This year marks our 23rd annual candlelight vigil. Please join us for a short reading to help us remember the human face of homelessness. Come stand in solidarity with our poorest neighbors .</div>\n\n<div class="o9v6fnle cxmmr5t8 oygrvhab hcukyx3x c1et5uql" style="overflow-wrap: break-word\; margin: 0.5em 0px 0px\; font-family: &quot\;Segoe UI Historic&quot\;\, &quot\;Segoe UI&quot\;\, Helvetica\, Arial\, sans-serif\; color: rgb(5\, 5\, 5)\; font-size: 15px\;">Hot Cocoa &amp\; Hot Cider<br />\nwill be provided.</div>\n
LOCATION:Depot Park\, Downtown Rutland
UID:e.3464.5392
SEQUENCE:3
DTSTAMP:20260421T175344Z
URL:https://members.rutlandvermont.com/events/details/23rd-annual-candlelight-vigil-5392
END:VEVENT

END:VCALENDAR
