BEGIN:VCALENDAR
VERSION:2.0
PRODID:-//ChamberMaster//Event Calendar 2.0//EN
METHOD:PUBLISH
X-PUBLISHED-TTL:P3D
REFRESH-INTERVAL:P3D
CALSCALE:GREGORIAN
BEGIN:VEVENT
DTSTART:20250629T133000Z
DTEND:20250629T200000Z
X-MICROSOFT-CDO-ALLDAYEVENT:FALSE
SUMMARY:$3\,000 Jackpot Giveaway Bingo
DESCRIPTION:$3000 giveaway sunday june 29th doors open 930 am Regular Game day Reg admission White House will be avail for more seating $3000 will go on last sheet of the day
X-ALT-DESC;FMTTYPE=text/html:<span style="color: rgb(226\, 229\, 233)\; font-family: &quot\;Segoe UI Historic&quot\;\, &quot\;Segoe UI&quot\;\, Helvetica\, Arial\, sans-serif\; font-size: 15px\; background-color: rgb(37\, 39\, 40)\;">$3000 giveaway sunday june 29th doors open 930 am Regular Game day Reg admission White House will be avail for more seating $3000 will go on last sheet of the day</span>
LOCATION:MWA 61 MWA Loop Wells\, VT 05774
UID:e.3464.10303
SEQUENCE:3
DTSTAMP:20260421T132312Z
URL:https://members.rutlandvermont.com/events/details/3-000-jackpot-giveaway-bingo-10303
END:VEVENT

END:VCALENDAR
