BEGIN:VCALENDAR
VERSION:2.0
PRODID:-//ChamberMaster//Event Calendar 2.0//EN
METHOD:PUBLISH
X-PUBLISHED-TTL:P3D
REFRESH-INTERVAL:P3D
CALSCALE:GREGORIAN
BEGIN:VEVENT
DTSTART:20250629T220000Z
DTEND:20250630T000000Z
X-MICROSOFT-CDO-ALLDAYEVENT:FALSE
SUMMARY:3rd Buckle Series Gymkhana
DESCRIPTION:5 divisions PeeWee(leadline) up to senior class\n\n~Barrels\n\n~Poles\n\n~ hairpin\n\nDrill team performance and food trailer!
X-ALT-DESC;FMTTYPE=text/html:5 divisions PeeWee(leadline) up to senior class<br />\n~Barrels<br />\n~Poles<br />\n~ hairpin<br />\nDrill team performance and food trailer!
LOCATION:311 Mill Brook Rd Wells\, VT
UID:e.3464.10461
SEQUENCE:3
DTSTAMP:20260421T132232Z
URL:https://members.rutlandvermont.com/events/details/3rd-buckle-series-gymkhana-10461
END:VEVENT

END:VCALENDAR
