BEGIN:VCALENDAR
VERSION:2.0
PRODID:-//ChamberMaster//Event Calendar 2.0//EN
METHOD:PUBLISH
X-PUBLISHED-TTL:P3D
REFRESH-INTERVAL:P3D
CALSCALE:GREGORIAN
BEGIN:VEVENT
DTSTART:20250809T180000Z
DTEND:20250809T203000Z
X-MICROSOFT-CDO-ALLDAYEVENT:FALSE
SUMMARY:4th Annual Great North American Maple Pie Contest
DESCRIPTION:Sit back and picnic while you watch the 4th Annual Great North American Maple Pie Contest go down!\n\n\n\nFor pie competition registration and details\n\n\n\nActivities will include pie contest with local celebrity judges\, pie throwing\, and of course eating pie and ice cream! The winner of the pie contest will receive a year's supply of maple syrup and other pie themed prizes! Lawn games and fun for the whole family! Catherine Bruns\, USA Today bestselling author\, will be selling and signing copies of "In the Blink of a Pie" (inspired by our farm and the maple pie contest). Free to attend but please bring cash to participate in the pielicious activities! A portion of proceeds will go towards the Vermont Farmers Food Center.
X-ALT-DESC;FMTTYPE=text/html:<strong>Sit back and picnic while you watch the 4th Annual Great North American Maple Pie Contest go down!</strong><br />\n<br />\nFor pie competition <a href="https://docs.google.com/.../1FAIpQLScstGMdI1dawX.../viewform">registration and details</a><br />\n<br />\n<strong>Activities </strong>will include pie contest with local celebrity judges\, pie throwing\, and of course eating pie and ice cream! The winner of the pie contest will receive <strong>a year&#39\;s supply of maple syrup and other pie themed prizes! </strong>Lawn games and fun for the whole family! Catherine Bruns\, USA Today bestselling author\, will be selling and signing copies of &quot\;In the Blink of a Pie&quot\; (inspired by our farm and the maple pie contest). Free to attend but please bring cash to participate in the pielicious activities! A portion of proceeds will go towards the Vermont Farmers Food Center.
LOCATION:Baird Farm 59 West Rd North Chittenden\, VT 05763
UID:e.3464.12046
SEQUENCE:3
DTSTAMP:20260421T132312Z
URL:https://members.rutlandvermont.com/events/details/4th-annual-great-north-american-maple-pie-contest-12046
END:VEVENT

END:VCALENDAR
