BEGIN:VCALENDAR
VERSION:2.0
PRODID:-//ChamberMaster//Event Calendar 2.0//EN
METHOD:PUBLISH
X-PUBLISHED-TTL:P3D
REFRESH-INTERVAL:P3D
CALSCALE:GREGORIAN
BEGIN:VEVENT
DTSTART:20250809T140000Z
DTEND:20250809T200000Z
X-MICROSOFT-CDO-ALLDAYEVENT:FALSE
SUMMARY:64th Annual Art in the Park Summer Festival
DESCRIPTION:Chaffee Art Center's 64th Annual Art in the Park Fall Foliage Festival will take place August 9 & 10 in Rutland's Main Street Park at the Junction of Routes 4 & 7. There is also a 2nd Festival October 11 & 12. Juried fine artists\, craftspeople\, and specialty food producers will be featured. Rounding out the festival are food vendors\, live music\, Free kids' activities\, and demonstrations of works in progress held throughout the weekend.\n\n\n\nHours: Saturday 8/9 10am to 5pm and Sunday 8/10 10am to 4pm.\n\n\n\nA variety of unique handcrafts and fine art that will be on exhibit and available for purchase at the outdoor festival. The visual arts will be represented\, and a full array of crafts will be featured. Apply today to exhibit!\n\n\n\nFor applications and information...\n\nhttps://www.chaffeeartcenter.org/.../exhibitor-information/
X-ALT-DESC;FMTTYPE=text/html:Chaffee Art Center&rsquo\;s 64th Annual Art in the Park Fall Foliage Festival will take place August 9 &amp\; 10 in Rutland&rsquo\;s Main Street Park at the Junction of Routes 4 &amp\; 7. There is also a 2nd Festival October 11 &amp\; 12. Juried fine artists\, craftspeople\, and specialty food producers will be featured. Rounding out the festival are food vendors\, live music\, Free kids&rsquo\; activities\, and demonstrations of works in progress held throughout the weekend.<br />\n<br />\n<strong>Hours</strong>: Saturday 8/9 10am to 5pm and Sunday 8/10 10am to 4pm.<br />\n<br />\nA variety of unique handcrafts and fine art that will be on exhibit and available for purchase at the outdoor festival. The visual arts will be represented\, and a full array of crafts will be featured.&nbsp\;Apply today to exhibit!<br />\n<br />\nFor applications and information...<br />\n<a href="https://l.facebook.com/l.php?u=https%3A%2F%2Fwww.chaffeeartcenter.org%2Fart-in-the-park%2Fexhibitor-information%2F%3Ffbclid%3DIwZXh0bgNhZW0CMTAAYnJpZBExYzNVUGFvQXE1dUswc3NTbwEe1Yg8RlNn_b7Nt24AQAqlV71h7JCzAZbLeQF28vb7YiqAhPxNNhcSiDsxM0Y_aem_1MyXIrT8xMIzyq5XaV6ARA&amp\;h=AT1m_XBEIlR9vXOJGCqmXhIIhTQg7ynhfplMSpzh8XVqH8BOr-trHAmxCQ6t2zhWGESwOicPgqlS0CjBbsPaMuya5VfZDK4ZqoF4sV7v3RCAetYJWKbhA86MeYROCtvklNSxPwYdGTl6uw&amp\;__tn__=q&amp\;c%5b0%5d=AT2cibF3zNFBmxyC1sUtY5N--l6xlgPtvOmmur_FDlFopgtw8WEMH89stFQ-ng0OHNpyqJCA_6K2UcpVcIQJqg7tYP-RAjvcWZK3jkpm7jde29FFQNhfo1DOM-0T1Jq_NFmdrVLZub7Go9k0Y3QenCkU9VeqQ8YFjgSjtg" target="_blank"><strong>https://www.chaffeeartcenter.org/.../exhibitor-information/</strong></a><br />\n&nbsp\;
LOCATION:Rutland's Main Street Park at the Junction of Routes 4 & 7
UID:e.3464.11705
SEQUENCE:3
DTSTAMP:20260421T132708Z
URL:https://members.rutlandvermont.com/events/details/64th-annual-art-in-the-park-summer-festival-11705
END:VEVENT

END:VCALENDAR
