BEGIN:VCALENDAR
VERSION:2.0
PRODID:-//ChamberMaster//Event Calendar 2.0//EN
METHOD:PUBLISH
X-PUBLISHED-TTL:P3D
REFRESH-INTERVAL:P3D
CALSCALE:GREGORIAN
BEGIN:VEVENT
DTSTART:20250802T200000Z
DTEND:20250802T213000Z
X-MICROSOFT-CDO-ALLDAYEVENT:FALSE
SUMMARY:87th Annual MWA Carnival Parade
DESCRIPTION:Join us in some parade fun! Grab your friends and join our parade. Families\, friends\, business.\, etc.\, we would love to have you! Show us your Rock and Roll Fantasy!!
X-ALT-DESC;FMTTYPE=text/html:Join us in some parade fun! Grab your friends and join our parade. Families\, friends\, business.\, etc.\, we would love to have you! Show us your Rock and Roll Fantasy!!<br />\n&nbsp\;
LOCATION:61 MWA Loop Wells\, VT
UID:e.3464.12027
SEQUENCE:3
DTSTAMP:20260421T132325Z
URL:https://members.rutlandvermont.com/events/details/87th-annual-mwa-carnival-parade-12027
END:VEVENT

END:VCALENDAR
