BEGIN:VCALENDAR
VERSION:2.0
PRODID:-//ChamberMaster//Event Calendar 2.0//EN
METHOD:PUBLISH
X-PUBLISHED-TTL:P3D
REFRESH-INTERVAL:P3D
CALSCALE:GREGORIAN
BEGIN:VEVENT
DTSTART:20250814T123000Z
DTEND:20250814T210000Z
X-MICROSOFT-CDO-ALLDAYEVENT:FALSE
SUMMARY:A Golf Day FORE VNA
DESCRIPTION:The VNA & Hospice of the Southwest Region invites players to the 7th annual Golf Day Fore VNA\, presented by OneDigital. The format for the tournament is a four-person scramble and features a post play lunch\, tee prizes and raffles. Registration begins at 8:30am with a shotgun start at 10:00am. A Golf Day Fore VNA will raise much-needed funds for VNAHSR's home care and hospice programs serving 3\,900 individual patients last year in Bennington and Rutland County.
X-ALT-DESC;FMTTYPE=text/html:<strong>The VNA &amp\; Hospice of the Southwest Region</strong> invites players to the <strong>7th annual Golf Day Fore VNA</strong>\, presented by OneDigital. The format for the tournament is a four-person scramble and features a post play lunch\, tee prizes and raffles. <strong>Registration begins at 8:30am with a shotgun start at 10:00am</strong>. A Golf Day Fore VNA will raise much-needed funds for VNAHSR&rsquo\;s home care and hospice programs serving 3\,900 individual patients last year in Bennington and Rutland County.
LOCATION:Mount Anthony Country Club at 180 Country Club Drive in Bennington\, VT
UID:e.3464.9501
SEQUENCE:3
DTSTAMP:20260421T132233Z
URL:https://members.rutlandvermont.com/events/details/a-golf-day-fore-vna-08-14-2025-9501
END:VEVENT

END:VCALENDAR
