BEGIN:VCALENDAR
VERSION:2.0
PRODID:-//ChamberMaster//Event Calendar 2.0//EN
METHOD:PUBLISH
X-PUBLISHED-TTL:P3D
REFRESH-INTERVAL:P3D
CALSCALE:GREGORIAN
BEGIN:VEVENT
DTSTART:20250723T164500Z
DTEND:20250723T184500Z
X-MICROSOFT-CDO-ALLDAYEVENT:FALSE
SUMMARY:Advanced Directive Workshop
DESCRIPTION:To assist community members in completing their advanced directives. Sharing tips\, answering questions and stimulating conversations.\n\nAdvance care planning includes completing an advance directive\, sometimes known as a living will. It also includes appointing a healthcare power of attorney\, which is someone designated to make healthcare decisions on your behalf when you are no longer able to. Completing this task is even more important in the state of Vermont\, as it is not automatically your next of kin (spouse\, parent\, adult sibling\, etc.) who can make decisions if you are unable to speak for yourself. Once you have completed your advance directive\, do not lock it away in a desk or safe\; share it with family members and providers who may need to access it. You can also submit copies to the Vermont Advance Directive Registry to be accessed by authorized health care facilities and providers when needed. Revisiting your documents is an extremely important step because as time goes by\, we change\, and potentially our healthcare choices may as well. A good habit would be to review every year on National Healthcare Decisions Day. Another approach would be to consider the "5 D's" as times when your advance directive may need to be changed or updated. The "5 D's" are: Decade birthday\, Diagnosis\, Deterioration\, Divorce or Death of someone close to you or that affects you. All of these events may affect how you think about future health care decisions for yourself. Who facilitates it? Nicole DeNoyers Sign up: 802-438-8111 nicole.denoyers@vnahsr.org
X-ALT-DESC;FMTTYPE=text/html:<div class="font-semibold mb-2" style="box-sizing: border-box\; border-width: 0px\; border-style: solid\; border-color: rgb(229\, 231\, 235)\; --tw-border-spacing-x: 0\; --tw-border-spacing-y: 0\; --tw-translate-x: 0\; --tw-translate-y: 0\; --tw-rotate: 0\; --tw-skew-x: 0\; --tw-skew-y: 0\; --tw-scale-x: 1\; --tw-scale-y: 1\; --tw-pan-x: \; --tw-pan-y: \; --tw-pinch-zoom: \; --tw-scroll-snap-strictness: proximity\; --tw-gradient-from-position: \; --tw-gradient-via-position: \; --tw-gradient-to-position: \; --tw-ordinal: \; --tw-slashed-zero: \; --tw-numeric-figure: \; --tw-numeric-spacing: \; --tw-numeric-fraction: \; --tw-ring-inset: \; --tw-ring-offset-width: 0px\; --tw-ring-offset-color: #fff\; --tw-ring-color: rgb(59 130 246 / 0.5)\; --tw-ring-offset-shadow: 0 0 #0000\; --tw-ring-shadow: 0 0 #0000\; --tw-shadow: 0 0 #0000\; --tw-shadow-colored: 0 0 #0000\; --tw-blur: \; --tw-brightness: \; --tw-contrast: \; --tw-grayscale: \; --tw-hue-rotate: \; --tw-invert: \; --tw-saturate: \; --tw-sepia: \; --tw-drop-shadow: \; --tw-backdrop-blur: \; --tw-backdrop-brightness: \; --tw-backdrop-contrast: \; --tw-backdrop-grayscale: \; --tw-backdrop-hue-rotate: \; --tw-backdrop-invert: \; --tw-backdrop-opacity: \; --tw-backdrop-saturate: \; --tw-backdrop-sepia: \; text-size-adjust: none\; margin-bottom: 8px\; font-weight: 600\; color: rgb(17\, 24\, 39)\; font-family: ui-sans-serif\, system-ui\, -apple-system\, BlinkMacSystemFont\, &quot\;Segoe UI&quot\;\, Roboto\, &quot\;Helvetica Neue&quot\;\, Arial\, &quot\;Noto Sans&quot\;\, sans-serif\, &quot\;Apple Color Emoji&quot\;\, &quot\;Segoe UI Emoji&quot\;\, &quot\;Segoe UI Symbol&quot\;\, &quot\;Noto Color Emoji&quot\;\; font-size: 16px\;">To assist community members in completing their advanced directives. Sharing tips\, answering questions and stimulating conversations.</div>\n\n<div class="mt-6 mb-2 whitespace-pre-wrap text-gray-700" style="box-sizing: border-box\; border-width: 0px\; border-style: solid\; border-color: rgb(229\, 231\, 235)\; --tw-border-spacing-x: 0\; --tw-border-spacing-y: 0\; --tw-translate-x: 0\; --tw-translate-y: 0\; --tw-rotate: 0\; --tw-skew-x: 0\; --tw-skew-y: 0\; --tw-scale-x: 1\; --tw-scale-y: 1\; --tw-pan-x: \; --tw-pan-y: \; --tw-pinch-zoom: \; --tw-scroll-snap-strictness: proximity\; --tw-gradient-from-position: \; --tw-gradient-via-position: \; --tw-gradient-to-position: \; --tw-ordinal: \; --tw-slashed-zero: \; --tw-numeric-figure: \; --tw-numeric-spacing: \; --tw-numeric-fraction: \; --tw-ring-inset: \; --tw-ring-offset-width: 0px\; --tw-ring-offset-color: #fff\; --tw-ring-color: rgb(59 130 246 / 0.5)\; --tw-ring-offset-shadow: 0 0 #0000\; --tw-ring-shadow: 0 0 #0000\; --tw-shadow: 0 0 #0000\; --tw-shadow-colored: 0 0 #0000\; --tw-blur: \; --tw-brightness: \; --tw-contrast: \; --tw-grayscale: \; --tw-hue-rotate: \; --tw-invert: \; --tw-saturate: \; --tw-sepia: \; --tw-drop-shadow: \; --tw-backdrop-blur: \; --tw-backdrop-brightness: \; --tw-backdrop-contrast: \; --tw-backdrop-grayscale: \; --tw-backdrop-hue-rotate: \; --tw-backdrop-invert: \; --tw-backdrop-opacity: \; --tw-backdrop-saturate: \; --tw-backdrop-sepia: \; text-size-adjust: none\; margin-bottom: 8px\; margin-top: 24px\; white-space-collapse: preserve\; --tw-text-opacity: 1\; color: rgb(55\, 65\, 81)\; font-family: ui-sans-serif\, system-ui\, -apple-system\, BlinkMacSystemFont\, &quot\;Segoe UI&quot\;\, Roboto\, &quot\;Helvetica Neue&quot\;\, Arial\, &quot\;Noto Sans&quot\;\, sans-serif\, &quot\;Apple Color Emoji&quot\;\, &quot\;Segoe UI Emoji&quot\;\, &quot\;Segoe UI Symbol&quot\;\, &quot\;Noto Color Emoji&quot\;\; font-size: 16px\; word-break: break-word\;">Advance care planning includes completing an advance directive\, sometimes known as a living will. It also includes appointing a healthcare power of attorney\, which is someone designated to make healthcare decisions on your behalf when you are no longer able to. Completing this task is even more important in the state of Vermont\, as it is not automatically your next of kin (spouse\, parent\, adult sibling\, etc.) who can make decisions if you are unable to speak for yourself. Once you have completed your advance directive\, do not lock it away in a desk or safe\; share it with family members and providers who may need to access it. You can also submit copies to the Vermont Advance Directive Registry to be accessed by authorized health care facilities and providers when needed. Revisiting your documents is an extremely important step because as time goes by\, we change\, and potentially our healthcare choices may as well. A good habit would be to review every year on National Healthcare Decisions Day. Another approach would be to consider the &ldquo\;5 D&rsquo\;s&rdquo\; as times when your advance directive may need to be changed or updated. The &ldquo\;5 D&rsquo\;s&rdquo\; are: Decade birthday\, Diagnosis\, Deterioration\, Divorce or Death of someone close to you or that affects you. All of these events may affect how you think about future health care decisions for yourself. Who facilitates it? Nicole DeNoyers Sign up: 802-438-8111 nicole.denoyers@vnahsr.org</div>\n
LOCATION:Young At Heart Senior Center 206 Furnace Street Poultney 05764
UID:e.3464.9953
SEQUENCE:3
DTSTAMP:20260421T115531Z
URL:https://members.rutlandvermont.com/events/details/advanced-directive-workshop-9953
END:VEVENT

END:VCALENDAR
