BEGIN:VCALENDAR
VERSION:2.0
PRODID:-//ChamberMaster//Event Calendar 2.0//EN
METHOD:PUBLISH
X-PUBLISHED-TTL:P3D
REFRESH-INTERVAL:P3D
CALSCALE:GREGORIAN
BEGIN:VEVENT
DTSTART:20250701T213000Z
DTEND:20250701T233000Z
X-MICROSOFT-CDO-ALLDAYEVENT:FALSE
SUMMARY:All Recovery Group
DESCRIPTION:Rutland County Pride\, in partnership with The Turning Point Center of Rutland is now hosting All Recovery Meetings! These meetings are for everyone who supports recovery.\n\nGiven the unique characteristics and disparities that individuals face within the LGBTQIA2S+ community\, it is essential that we continue to expand queer-specific resources and be more accommodating in all recovery spaces.\n\nAll Recovery meetings honor all pathways to recovery\, acknowledging that each person's path is unique and reflects their personal strengths. The meetings are non-denominational and offer an opportunity to focus on the hope found in recovery. Recovery does not happen alone. Join us and connect with others who are initiating and maintaining a recovery lifestyle.\n\nAll Recovery Meetings are facilitated by trained and certified Peer Recovery Specialists in partnership with The Turning Point Center of Rutland and provide social support for those seeking or maintaining recovery\, as well as family members\, friends and supporters of those who have been influenced by substance use.\n\nIn an effort to preserve the recovery communities we've built together and continue to provide a place of hope and safety during these challenging times.\n\nMore details here: https://www.rcpride.org/events\n\nNot able to attend in person? We have a zoom option available!\n\nTopic: All Recovery Meeting at the Rutland County Pride Center\n\nTime: Every Tuesday at 5:30 PM Eastern Time (US and Canada)\n\nPlease download and import the following iCalendar (.ics) files to your calendar system.\n\nWeekly: https://us06web.zoom.us/.../tZYoceqgqT4jGdCzcro_J.../ics...\n\nJoin Zoom Meeting\n\nhttps://us06web.zoom.us/j/82563875934...\n\nMeeting ID: 825 6387 5934\n\nPasscode: 821863\n\n---\n\nOne tap mobile\n\n+13017158592\,\,82563875934#\,\,\,\,*821863# US (Washington DC)\n\n+13052241968\,\,82563875934#\,\,\,\,*821863# US
X-ALT-DESC;FMTTYPE=text/html:Rutland County Pride\, in partnership with The Turning Point Center of Rutland is now hosting All Recovery Meetings! These meetings are for everyone who supports recovery.<br />\nGiven the unique characteristics and disparities that individuals face within the LGBTQIA2S+ community\, it is essential that we continue to expand queer-specific resources and be more accommodating in all recovery spaces.<br />\nAll Recovery meetings honor all pathways to recovery\, acknowledging that each person&rsquo\;s path is unique and reflects their personal strengths. The meetings are non-denominational and offer an opportunity to focus on the hope found in recovery. Recovery does not happen alone. Join us and connect with others who are initiating and maintaining a recovery lifestyle.<br />\nAll Recovery Meetings are facilitated by trained and certified Peer Recovery Specialists in partnership with The Turning Point Center of Rutland and provide social support for those seeking or maintaining recovery\, as well as family members\, friends and supporters of those who have been influenced by substance use.<br />\nIn an effort to preserve the recovery communities we&#39\;ve built together and continue to provide a place of hope and safety during these challenging times.<br />\nMore details here:&nbsp\;<a href="https://l.facebook.com/l.php?u=https%3A%2F%2Fwww.rcpride.org%2Fevents%3Ffbclid%3DIwZXh0bgNhZW0CMTAAYnJpZBExRUJoU3doVXlWR2xGZnBaTgEeyrI1zmKJuSDtrpn_R-J74kD4ldaDLrVZ-b2MEt0_iSnjyij9Vxv17vF4cZ4_aem_MKmRuWjOeNEdwdF_ls5qbQ&amp\;h=AT3WJkZDBtRwreY_0yFcm6JveRwrV3bblwBVqpVyRy6a6UszsOpTgKTAYaFxSqv0wMZyvHjrpi-eXAwG9nAvhZPYiwNIdgGgcaa_gz3kkX6326JteLcdhdZl2kFlk45KunTjLkfi1QEOFQ&amp\;__tn__=q&amp\;c%5b0%5d=AT0tk_tdpcnLnr1Q5lxEUUJ8GPvV0f_xWpYOCZY7qkfCuS55jRX_0BmuJ-kB2zb9D9xmKDbrLzPiKUnWrBq63LfTbDuTdWcyr8c8-pGgR0Klw3fR5OhGi-98COVgK7d0V_cUr1jBD5xaIhveHT6qMKC1bM-VoyOB22LT2g" target="_blank"><strong>https://www.rcpride.org/events</strong></a><br />\nNot able to attend in person? We have a zoom option available!<br />\nTopic: All Recovery Meeting at the Rutland County Pride Center<br />\nTime: Every Tuesday at 5:30 PM Eastern Time (US and Canada)<br />\nPlease download and import the following iCalendar (.ics) files to your calendar system.<br />\nWeekly:&nbsp\;<a href="https://us06web.zoom.us/meeting/tZYoceqgqT4jGdCzcro_J-oWhqj6GvdHnpDD/ics?icsToken=98tyKuGqqz0pEtOQuRqDRpwQGY_ob_zwtiVEjad-hhz3DB95LwzBPvNIZJVpFPDe&amp\;fbclid=IwZXh0bgNhZW0CMTAAYnJpZBExRUJoU3doVXlWR2xGZnBaTgEewVaeLF-NDyJ2xOhKq4LkDb-vEzZbCSGOThigmSXTWo4QqPdvy1oDAhWQ3Tg_aem_OLGv-mWLsPEuNW7xOCpzLA" target="_blank"><strong>https://us06web.zoom.us/.../tZYoceqgqT4jGdCzcro_J.../ics...</strong></a><br />\nJoin Zoom Meeting<br />\n<a href="https://l.facebook.com/l.php?u=https%3A%2F%2Fus06web.zoom.us%2Fj%2F82563875934%3Fpwd%3DmcwSUpbOakONbYSjr8tnAiwdiAKERT.1%26fbclid%3DIwZXh0bgNhZW0CMTAAYnJpZBExRUJoU3doVXlWR2xGZnBaTgEefgSpxPQ1unYP1UjmTac3e-jkK4E1FLnfpI37-HE7IOtYkJLfK0G3rHJbI1w_aem_qGEmup4OLr_x008isnP7Yg&amp\;h=AT3B-uR_gLpp6Njk_rokHbF0SCe5bhGkonpiOCAf1PmX_VMdUiAwLSgDRb7BWiqvqBQxyTxpvlp9Nv6KK8ou313DmxAuZOq4HX80vDpcJSNzFOkpRO3FcElsCP-P7BTlpbdnojHD1ByLvQ&amp\;__tn__=q&amp\;c%5b0%5d=AT0tk_tdpcnLnr1Q5lxEUUJ8GPvV0f_xWpYOCZY7qkfCuS55jRX_0BmuJ-kB2zb9D9xmKDbrLzPiKUnWrBq63LfTbDuTdWcyr8c8-pGgR0Klw3fR5OhGi-98COVgK7d0V_cUr1jBD5xaIhveHT6qMKC1bM-VoyOB22LT2g" target="_blank"><strong>https://us06web.zoom.us/j/82563875934...</strong></a><br />\nMeeting ID: 825 6387 5934<br />\nPasscode: 821863<br />\n---<br />\nOne tap mobile<br />\n+13017158592\,\,82563875934#\,\,\,\,*821863# US (Washington DC)<br />\n+13052241968\,\,82563875934#\,\,\,\,*821863# US
LOCATION:
UID:e.3464.10329
SEQUENCE:3
DTSTAMP:20260421T115638Z
URL:https://members.rutlandvermont.com/events/details/all-recovery-group-10329
END:VEVENT

END:VCALENDAR
