BEGIN:VCALENDAR
VERSION:2.0
PRODID:-//ChamberMaster//Event Calendar 2.0//EN
METHOD:PUBLISH
X-PUBLISHED-TTL:P3D
REFRESH-INTERVAL:P3D
CALSCALE:GREGORIAN
BEGIN:VEVENT
DTSTART:20250806T140000Z
DTEND:20250806T183000Z
X-MICROSOFT-CDO-ALLDAYEVENT:FALSE
SUMMARY:American Red Cross Blood Drive
DESCRIPTION:The American Red Cross is hosting a Blood Drive on Wednesday\, August 6th at the Killington Grand Hotel from 10:00 a.m. - 2:30 p.m. To find out if you are eligible to donate blood before registering\, click here.\nVisit redcrossblood.org and enter KILLINGTON to schedule an appointment. You can also call 1-800-RED CROSS (1-800-733-2767) to reserve your donation time slot over the phone.\n\nIf you are an eligible type O\, B-\, or A- donor\, consider making a Power Red donation. Red blood cells are the most commonly transfused blood component. Maximize your blood donation & help more patients.\n\nStreamline your donation experience and save up to 15 minutes by visiting RedCrossBlood.org/RapidPass to complete your pre-donation reading and health history questions (only on the day of your appointment).
X-ALT-DESC;FMTTYPE=text/html:<span style="color: rgb(0\, 0\, 0)\; font-family: akzidenz-grotesk-next-pro-400\; font-size: 18px\;">The American Red Cross is hosting a Blood Drive on Wednesday\, August 6th at the&nbsp\;</span><a href="https://www.killington.com/lodging-groups/lodging/killington-grand-resort-hotel" style="box-sizing: border-box\; -webkit-font-smoothing: antialiased\; margin: 0px\; padding: 0px\; border: 0px\; font-variant-numeric: inherit\; font-variant-east-asian: inherit\; font-variant-alternates: inherit\; font-variant-position: inherit\; font-variant-emoji: inherit\; font-stretch: inherit\; line-height: inherit\; font-family: akzidenz-grotesk-next-pro-400\; font-optical-sizing: inherit\; font-size-adjust: inherit\; font-kerning: inherit\; font-feature-settings: inherit\; font-variation-settings: inherit\; font-size: 18px\; vertical-align: baseline\; cursor: pointer\; text-decoration-line: none\; transition: color 0.25s ease-out\, background-color 0.25s ease-out\; color: rgb(0\, 156\, 219)\;">Killington Grand Hotel</a><span style="color: rgb(0\, 0\, 0)\; font-family: akzidenz-grotesk-next-pro-400\; font-size: 18px\;">&nbsp\;from&nbsp\;</span><strong style="box-sizing: border-box\; -webkit-font-smoothing: antialiased\; margin: 0px\; padding: 0px\; border: 0px\; font-variant-numeric: inherit\; font-variant-east-asian: inherit\; font-variant-alternates: inherit\; font-variant-position: inherit\; font-variant-emoji: inherit\; font-weight: bold\; font-stretch: inherit\; line-height: inherit\; font-family: akzidenz-grotesk-next-pro-400\; font-optical-sizing: inherit\; font-size-adjust: inherit\; font-kerning: inherit\; font-feature-settings: inherit\; font-variation-settings: inherit\; font-size: 18px\; vertical-align: baseline\; color: rgb(0\, 0\, 0)\;">10:00 a.m. - 2:30 p.m.&nbsp\;</strong><span style="color: rgb(0\, 0\, 0)\; font-family: akzidenz-grotesk-next-pro-400\; font-size: 18px\;">To find out if you are eligible to donate blood before registering\,&nbsp\;</span><a donate-blood="" how-to-donate="" href="https://www.redcrossblood.org/donate-blood/how-to-donate/eligibility-requirements.html" https:="" style="box-sizing: border-box\; -webkit-font-smoothing: antialiased\; margin: 0px\; padding: 0px\; border: 0px\; font-variant-numeric: inherit\; font-variant-east-asian: inherit\; font-variant-alternates: inherit\; font-variant-position: inherit\; font-variant-emoji: inherit\; font-stretch: inherit\; line-height: inherit\; font-family: akzidenz-grotesk-next-pro-400\; font-optical-sizing: inherit\; font-size-adjust: inherit\; font-kerning: inherit\; font-feature-settings: inherit\; font-variation-settings: inherit\; font-size: 18px\; vertical-align: baseline\; cursor: pointer\; text-decoration-line: none\; transition: color 0.25s ease-out\, background-color 0.25s ease-out\; color: rgb(0\, 156\, 219)\;" target="_blank href=" www.redcrossblood.org="">click here</a><span style="color: rgb(0\, 0\, 0)\; font-family: akzidenz-grotesk-next-pro-400\; font-size: 18px\;">.</span>\n<p style="box-sizing: border-box\; -webkit-font-smoothing: antialiased\; margin: 0px 0px 15px\; padding: 0px\; border: 0px\; font-variant-numeric: inherit\; font-variant-east-asian: inherit\; font-variant-alternates: inherit\; font-variant-position: inherit\; font-variant-emoji: inherit\; font-stretch: inherit\; line-height: 1.2\; font-family: akzidenz-grotesk-next-pro-400\; font-optical-sizing: inherit\; font-size-adjust: inherit\; font-kerning: inherit\; font-feature-settings: inherit\; font-variation-settings: inherit\; font-size: 18px\; vertical-align: baseline\; color: rgb(0\, 0\, 0)\;">Visit&nbsp\;<a href="https://www.redcrossblood.org/" style="box-sizing: border-box\; -webkit-font-smoothing: antialiased\; margin: 0px\; padding: 0px\; border: 0px\; font-style: inherit\; font-variant: inherit\; font-weight: inherit\; font-stretch: inherit\; line-height: inherit\; font-optical-sizing: inherit\; font-size-adjust: inherit\; font-kerning: inherit\; font-feature-settings: inherit\; font-variation-settings: inherit\; vertical-align: baseline\; cursor: pointer\; text-decoration-line: none\; transition: color 0.25s ease-out\, background-color 0.25s ease-out\; color: rgb(0\, 156\, 219)\;" target="_blank">redcrossblood.org</a>&nbsp\;and enter KILLINGTON to schedule an appointment. You can also call&nbsp\;<a href="tel:1-800-733-2767" style="box-sizing: border-box\; -webkit-font-smoothing: antialiased\; margin: 0px\; padding: 0px\; border: 0px\; font-style: inherit\; font-variant: inherit\; font-weight: inherit\; font-stretch: inherit\; line-height: inherit\; font-optical-sizing: inherit\; font-size-adjust: inherit\; font-kerning: inherit\; font-feature-settings: inherit\; font-variation-settings: inherit\; vertical-align: baseline\; cursor: pointer\; text-decoration-line: none\; transition: color 0.25s ease-out\, background-color 0.25s ease-out\; color: rgb(0\, 156\, 219)\;">1-800-RED CROSS</a>&nbsp\;(1-800-733-2767) to reserve your donation time slot over the phone.</p>\n\n<p style="box-sizing: border-box\; -webkit-font-smoothing: antialiased\; margin: 0px 0px 15px\; padding: 0px\; border: 0px\; font-variant-numeric: inherit\; font-variant-east-asian: inherit\; font-variant-alternates: inherit\; font-variant-position: inherit\; font-variant-emoji: inherit\; font-stretch: inherit\; line-height: 1.2\; font-family: akzidenz-grotesk-next-pro-400\; font-optical-sizing: inherit\; font-size-adjust: inherit\; font-kerning: inherit\; font-feature-settings: inherit\; font-variation-settings: inherit\; font-size: 18px\; vertical-align: baseline\; color: rgb(0\, 0\, 0)\;">If you are an eligible&nbsp\;<strong style="box-sizing: border-box\; -webkit-font-smoothing: antialiased\; margin: 0px\; padding: 0px\; border: 0px\; font-style: inherit\; font-variant: inherit\; font-weight: bold\; font-stretch: inherit\; line-height: inherit\; font-family: inherit\; font-optical-sizing: inherit\; font-size-adjust: inherit\; font-kerning: inherit\; font-feature-settings: inherit\; font-variation-settings: inherit\; vertical-align: baseline\;">type O\, B-\, or A- donor</strong>\, consider making a Power Red donation. Red blood cells are the most commonly transfused blood component. Maximize your blood donation &amp\; help more patients.</p>\n\n<p style="box-sizing: border-box\; -webkit-font-smoothing: antialiased\; margin: 0px 0px 15px\; padding: 0px\; border: 0px\; font-variant-numeric: inherit\; font-variant-east-asian: inherit\; font-variant-alternates: inherit\; font-variant-position: inherit\; font-variant-emoji: inherit\; font-stretch: inherit\; line-height: 1.2\; font-family: akzidenz-grotesk-next-pro-400\; font-optical-sizing: inherit\; font-size-adjust: inherit\; font-kerning: inherit\; font-feature-settings: inherit\; font-variation-settings: inherit\; font-size: 18px\; vertical-align: baseline\; color: rgb(0\, 0\, 0)\;">Streamline your donation experience and save up to 15 minutes by visiting&nbsp\;<a href="https://www.redcrossblood.org/donate-blood/manage-my-donations/rapidpass.html" style="box-sizing: border-box\; -webkit-font-smoothing: antialiased\; margin: 0px\; padding: 0px\; border: 0px\; font-style: inherit\; font-variant: inherit\; font-weight: inherit\; font-stretch: inherit\; line-height: inherit\; font-optical-sizing: inherit\; font-size-adjust: inherit\; font-kerning: inherit\; font-feature-settings: inherit\; font-variation-settings: inherit\; vertical-align: baseline\; cursor: pointer\; text-decoration-line: none\; transition: color 0.25s ease-out\, background-color 0.25s ease-out\; color: rgb(0\, 156\, 219)\;" target="_blank">RedCrossBlood.org/RapidPass</a>&nbsp\;to complete your pre-donation reading and health history questions (<u style="box-sizing: border-box\; -webkit-font-smoothing: antialiased\; margin: 0px\; padding: 0px\; border: 0px\; font-style: inherit\; font-variant: inherit\; font-weight: inherit\; font-stretch: inherit\; line-height: inherit\; font-family: inherit\; font-optical-sizing: inherit\; font-size-adjust: inherit\; font-kerning: inherit\; font-feature-settings: inherit\; font-variation-settings: inherit\; vertical-align: baseline\;">only</u>&nbsp\;on the day of your appointment).</p>\n
LOCATION:Killington Grand Hotel Killington\, VT
UID:e.3464.12008
SEQUENCE:3
DTSTAMP:20260421T132341Z
URL:https://members.rutlandvermont.com/events/details/american-red-cross-blood-drive-12008
END:VEVENT

END:VCALENDAR
