BEGIN:VCALENDAR
VERSION:2.0
PRODID:-//ChamberMaster//Event Calendar 2.0//EN
METHOD:PUBLISH
X-PUBLISHED-TTL:P3D
REFRESH-INTERVAL:P3D
CALSCALE:GREGORIAN
BEGIN:VEVENT
DTSTART:20250824T004500Z
DTEND:20250824T014500Z
X-MICROSOFT-CDO-ALLDAYEVENT:FALSE
SUMMARY:Annual Town Fireworks Display
DESCRIPTION:Our annual firework display will now be part of our Town Wide Celebration wrapping up the day!\n\nThere is plenty of parking inside Northwood Park. \n\nPlease no parking along Post Road. \n\nFireworks start when its dark!\n\nWe look forward to seeing you there!
X-ALT-DESC;FMTTYPE=text/html:Our annual firework display will now be part of our Town Wide Celebration wrapping up the day!<br />\nThere is plenty of parking inside Northwood Park.&nbsp\;<br />\nPlease no parking along Post Road.&nbsp\;<br />\nFireworks start when its dark!<br />\nWe look forward to seeing you there!
LOCATION:Northwood Park Rutland Town
UID:e.3464.11704
SEQUENCE:3
DTSTAMP:20260421T132104Z
URL:https://members.rutlandvermont.com/events/details/annual-town-fireworks-display-11704
END:VEVENT

END:VCALENDAR
