BEGIN:VCALENDAR
VERSION:2.0
PRODID:-//ChamberMaster//Event Calendar 2.0//EN
METHOD:PUBLISH
X-PUBLISHED-TTL:P3D
REFRESH-INTERVAL:P3D
CALSCALE:GREGORIAN
BEGIN:VEVENT
DTSTART:20250621T140000Z
DTEND:20250621T190000Z
X-MICROSOFT-CDO-ALLDAYEVENT:FALSE
SUMMARY:Antique Appraisal & Arts and Crafts Fair
DESCRIPTION:The MT Tabor-Danby Historical Society Presents this Third Annual Event at the S.L. Griffith Library\, featuring live music by Kim & Bob Ray.  Bring your antique treasures down for an appraisal and join us for day of celebrating local makers\, history and food.\n\nFor more information email wallacad@vermontel.net.
X-ALT-DESC;FMTTYPE=text/html:The MT Tabor-Danby Historical Society Presents this Third Annual Event at the S.L. Griffith Library\, featuring live music by Kim &amp\; Bob Ray.&nbsp\; Bring your antique treasures down for an appraisal and join us for day of celebrating local makers\, history and food.<br />\nFor more information email wallacad@vermontel.net.
LOCATION:S.L. Griffith Library 74 South Main Street Danby\, VT 05739
UID:e.3464.9509
SEQUENCE:3
DTSTAMP:20260421T132406Z
URL:https://members.rutlandvermont.com/events/details/antique-appraisal-arts-and-crafts-fair-9509
END:VEVENT

END:VCALENDAR
