BEGIN:VCALENDAR
VERSION:2.0
PRODID:-//ChamberMaster//Event Calendar 2.0//EN
METHOD:PUBLISH
X-PUBLISHED-TTL:P3D
REFRESH-INTERVAL:P3D
CALSCALE:GREGORIAN
BEGIN:VEVENT
DTSTART:20250630T193000Z
DTEND:20250630T203000Z
X-MICROSOFT-CDO-ALLDAYEVENT:FALSE
SUMMARY:Art Bar - Open Craft Time!
DESCRIPTION:Craft supplies galore - work on any project you want! Browse our craft books for ideas. We'll occasionally provide a specific craft or have special supplies available. \n\nFind us in the Children's Room!\n\n\n\nNo Registration Required
X-ALT-DESC;FMTTYPE=text/html:<div class="event-description wysiwyg cf" style="margin: 0px 0px 1em\; padding: 0px\; box-sizing: border-box\; zoom: 1\; line-height: 1.5\; position: relative\; font-family: georgia\; color: rgb(0\, 0\, 0)\; font-size: 16px\;">\n<p style="margin: 0px 0px 1em\; padding: 0px\; box-sizing: border-box\; line-height: 1.5\;">Craft supplies galore - work on any project you want! Browse our craft books for ideas. We&#39\;ll occasionally provide a specific craft or have special supplies available.&nbsp\;</p>\n\n<p style="margin: 0px 0px 1em\; padding: 0px\; box-sizing: border-box\; line-height: 1.5\;">Find us in the Children&#39\;s Room!</p>\n</div>\n\n<div class="event-registration-information" style="margin: 0px\; padding: 1em 0px\; box-sizing: border-box\; border-top: 1px solid rgb(209\, 211\, 212)\; color: rgb(0\, 0\, 0)\; font-family: &quot\;Source Sans 3&quot\;\, tahoma\, arial\, sans-serif\; font-size: 16px\;">\n<p class="event-registration-not-required" style="margin: 0px 0px 1em\; padding: 0px\; box-sizing: border-box\; line-height: 1.5\;">No Registration Required</p>\n</div>\n
LOCATION:Rutland Free Library10 Court St \, Rutland \, VT\, 05701
UID:e.3464.10096
SEQUENCE:3
DTSTAMP:20260421T132106Z
URL:https://members.rutlandvermont.com/events/details/art-bar-open-craft-time-10096
END:VEVENT

END:VCALENDAR
