BEGIN:VCALENDAR
VERSION:2.0
PRODID:-//ChamberMaster//Event Calendar 2.0//EN
METHOD:PUBLISH
X-PUBLISHED-TTL:P3D
REFRESH-INTERVAL:P3D
CALSCALE:GREGORIAN
BEGIN:VEVENT
DTSTART:20250707T193000Z
DTEND:20250707T203000Z
X-MICROSOFT-CDO-ALLDAYEVENT:FALSE
SUMMARY:Art Bar - Open Craft Time!
DESCRIPTION:Craft supplies galore - work on any project you want! Browse our craft books for ideas. We'll occasionally provide a specific craft or have special supplies available. \n\nFind us in the Children's Room!
X-ALT-DESC;FMTTYPE=text/html:<p style="margin: 0px 0px 1em\; padding: 0px\; box-sizing: border-box\; line-height: 1.5\; color: rgb(0\, 0\, 0)\; font-family: georgia\; font-size: 16px\;">Craft supplies galore - work on any project you want! Browse our craft books for ideas. We&#39\;ll occasionally provide a specific craft or have special supplies available.&nbsp\;</p>\n\n<p style="margin: 0px 0px 1em\; padding: 0px\; box-sizing: border-box\; line-height: 1.5\; color: rgb(0\, 0\, 0)\; font-family: georgia\; font-size: 16px\;">Find us in the Children&#39\;s Room!</p>\n
LOCATION:at RFL Rutland Free Library10 Court St \, Rutland \, VT\, 05701
UID:e.3464.12015
SEQUENCE:3
DTSTAMP:20260421T115838Z
URL:https://members.rutlandvermont.com/events/details/art-bar-open-craft-time-12015
END:VEVENT

END:VCALENDAR
