BEGIN:VCALENDAR
VERSION:2.0
PRODID:-//ChamberMaster//Event Calendar 2.0//EN
METHOD:PUBLISH
X-PUBLISHED-TTL:P3D
REFRESH-INTERVAL:P3D
CALSCALE:GREGORIAN
BEGIN:VEVENT
DTSTART:20250714T140000Z
DTEND:20250714T160000Z
X-MICROSOFT-CDO-ALLDAYEVENT:FALSE
SUMMARY:Art from the Garden-Creating with Pressed Flowers
DESCRIPTION:Back by popular demand!\n\nArt from the Garden: Creating with Pressed Flowers. Facilitated by Ellie Roden\n\nPressed flower artist\, Ellie Roden\, will be offering a 2-hour hands-on workshop on creating art with pressed flowers. Ellie will introduce ways to turn flowers\, leaves\, and other plant materials into beautiful art. Various techniques for successful flower pressing and necessary tools and materials will be shared\, including microwave flower pressing for perfect and immediate results. Ideas and tips for creating with pressed flowers will be presented with examples shown. Participants will then have the opportunity to create bookmarks\, cards\, ornament balls\, and/or wall art with a wide variety of pressed flowers\, leaves\, and stems. All materials will be provided.\n\nMeet Ellie Roden:\n\nEllie is a longtime resident of southern Vermont\, retired primary school teacher\, and avid flower gardener. She has been creating art with pressed flowers for many years. She has always been intrigued with the beauty of flowers and presses them as a way to preserve their beauty. Ellie is a self-taught pressed flower artist who has honed her craft over years of trial and error and careful observation. Her award-winning pressed flower art has been exhibited at shows and in galleries throughout New England and featured in two national publications.\n\n$40.00 Per Person.\n\nSpace is Limited. Tickets must be purchased in advance.\n\nhttps://www.thesparklebarn.com/.../art-from-the.../16172...
X-ALT-DESC;FMTTYPE=text/html:Back by popular demand!<br />\nArt from the Garden: Creating with Pressed Flowers. Facilitated by Ellie Roden<br />\nPressed flower artist\, Ellie Roden\, will be offering a 2-hour hands-on workshop on creating art with pressed flowers. Ellie will introduce ways to turn flowers\, leaves\, and other plant materials into beautiful art. Various techniques for successful flower pressing and necessary tools and materials will be shared\, including microwave flower pressing for perfect and immediate results. Ideas and tips for creating with pressed flowers will be presented with examples shown. Participants will then have the opportunity to create bookmarks\, cards\, ornament balls\, and/or wall art with a wide variety of pressed flowers\, leaves\, and stems. All materials will be provided.<br />\nMeet Ellie Roden:<br />\nEllie is a longtime resident of southern Vermont\, retired primary school teacher\, and avid flower gardener. She has been creating art with pressed flowers for many years. She has always been intrigued with the beauty of flowers and presses them as a way to preserve their beauty. Ellie is a self-taught pressed flower artist who has honed her craft over years of trial and error and careful observation. Her award-winning pressed flower art has been exhibited at shows and in galleries throughout New England and featured in two national publications.<br />\n$40.00 Per Person.<br />\nSpace is Limited. Tickets must be purchased in advance.<br />\n<a href="https://www.thesparklebarn.com/product/art-from-the-garden-class-july-13th/16172?cp=true&amp\;sa=false&amp\;sbp=false&amp\;q=true&amp\;fbclid=IwZXh0bgNhZW0CMTAAYnJpZBExRmVTaEtNN2FpZXhuOTEzQwEeLY5ZdygkBYI_I1GllV2BmYVtKkV0Zu5iMaMTILX4_dGphvOCiF_kP-dCYTM_aem_OKciMdXm-pYSNJsxCo0a1g" target="_blank"><strong>https://www.thesparklebarn.com/.../art-from-the.../16172...</strong></a>&nbsp\;<br />\n&nbsp\;
LOCATION:The Sparkle Barn 1509 US 7 S Wallingford\, VT 05773
UID:e.3464.11722
SEQUENCE:3
DTSTAMP:20260421T120623Z
URL:https://members.rutlandvermont.com/events/details/art-from-the-garden-creating-with-pressed-flowers-11722
END:VEVENT

END:VCALENDAR
