BEGIN:VCALENDAR
VERSION:2.0
PRODID:-//ChamberMaster//Event Calendar 2.0//EN
METHOD:PUBLISH
X-PUBLISHED-TTL:P3D
REFRESH-INTERVAL:P3D
CALSCALE:GREGORIAN
BEGIN:VEVENT
DTSTART:20250802T160000Z
DTEND:20250802T190000Z
X-MICROSOFT-CDO-ALLDAYEVENT:FALSE
SUMMARY:Baby Gear Swap
DESCRIPTION:Bring a pack of Diapers or Wipes to Participate \n\nItems Needed\; \n\nBaby Carriers\n\nBaby Bath Items \n\nBaby Shoes \n\nWinter Gear \n\nClothing \n\nBaby Monitors \n\nNursery Items \n\nBassinets \n\nItems ages 0-5
X-ALT-DESC;FMTTYPE=text/html:Bring a pack of Diapers or Wipes to Participate&nbsp\;<br />\nItems Needed\;&nbsp\;<br />\nBaby Carriers<br />\nBaby Bath Items&nbsp\;<br />\nBaby Shoes&nbsp\;<br />\nWinter Gear&nbsp\;<br />\nClothing&nbsp\;<br />\nBaby Monitors&nbsp\;<br />\nNursery Items&nbsp\;<br />\nBassinets&nbsp\;<br />\nItems ages 0-5
LOCATION:Trinity Episcopal Church 85 West Street Rutland VT
UID:e.3464.12031
SEQUENCE:3
DTSTAMP:20260421T132232Z
URL:https://members.rutlandvermont.com/events/details/baby-gear-swap-12031
END:VEVENT

END:VCALENDAR
