BEGIN:VCALENDAR
VERSION:2.0
PRODID:-//ChamberMaster//Event Calendar 2.0//EN
METHOD:PUBLISH
X-PUBLISHED-TTL:P3D
REFRESH-INTERVAL:P3D
CALSCALE:GREGORIAN
BEGIN:VEVENT
DTSTART:20250713T114500Z
DTEND:20250713T180000Z
X-MICROSOFT-CDO-ALLDAYEVENT:FALSE
SUMMARY:Battle of Hubbardton Revolutionary War Weekend
DESCRIPTION:10:00 to 5:00 Saturday\, 7:45 to 2:00 Sunday (Museum and site open until 5:00 PM on Sunday)\n\nThis living history weekend encampment honors the 248th anniversary of the July 7\, 1777\, Revolutionary War Battle of Hubbardton. Scores of reenactors portray the American\, British\, and German soldiers. Tactical military and other special demonstrations\, camp life activities\, guided tours\, and talks. Food stand on site. Opportunities for all ages. Call (802) 273-2282 for details. Details will be posted as the event gets closer. Presented by the reenactors\, the Hubbardton Battlefield State Historic Site\, and many Hubbardton organizations. $8 adults\, $1 children ages 6   14\, under 6 free.
X-ALT-DESC;FMTTYPE=text/html:10:00 to 5:00 Saturday\, 7:45 to 2:00 Sunday (Museum and site open until 5:00 PM on Sunday)<br />\nThis living history weekend encampment honors the 248th anniversary of the July 7\, 1777\, Revolutionary War Battle of Hubbardton. Scores of reenactors portray the American\, British\, and German soldiers. Tactical military and other special demonstrations\, camp life activities\, guided tours\, and talks. Food stand on site. Opportunities for all ages. Call (802) 273-2282 for details. Details will be posted as the event gets closer. Presented by the reenactors\, the Hubbardton Battlefield State Historic Site\, and many Hubbardton organizations. $8 adults\, $1 children ages 6 &ndash\; 14\, under 6 free.
LOCATION:
UID:e.3464.11710
SEQUENCE:3
DTSTAMP:20260421T120845Z
URL:https://members.rutlandvermont.com/events/details/battle-of-hubbardton-revolutionary-war-weekend-11710
END:VEVENT

END:VCALENDAR
