BEGIN:VCALENDAR
VERSION:2.0
PRODID:-//ChamberMaster//Event Calendar 2.0//EN
METHOD:PUBLISH
X-PUBLISHED-TTL:P3D
REFRESH-INTERVAL:P3D
CALSCALE:GREGORIAN
BEGIN:VEVENT
DTSTART:20250621T160000Z
DTEND:20250621T220000Z
X-MICROSOFT-CDO-ALLDAYEVENT:FALSE
SUMMARY:BBQ & Brew
DESCRIPTION:The 2025 BBQ & Brew Festival is an Official Qualifier for the Jack Daniels Invitations BBQ World Champions and the 1st leg of the Big Dog Sauce New England Triple Crown!  Guaranteed $10\,000 in prize winnings!  \n\n\n\nThe BBQ & Brew has all the BBQ choices you could possibly want to choose from!  Plus there is something for everyone!  There will be free kids activities including a bouncy house  and Cornhole Tournaments for Adults.  \n\n\n\nThis is what BBQ & Brew is really about.  Community!  Please help us support Josh's House.  A portion of ALL proceeds will be donated to Josh's House.\n\n\n\nFor Questions about BBQ & Brew\n\n\nCall us at  (802) 491-3008  or\n\nEmail us at bbqandbrew@completeticketsolutions.com
X-ALT-DESC;FMTTYPE=text/html:<div style="box-sizing: inherit\; margin: 0px\; color: rgb(94\, 94\, 94)\; font-family: Helvetica\, arial\, sans-serif\; font-size: 24px\; background-color: rgb(255\, 255\, 255)\;">&nbsp\;</div>\n<span style="font-size:12px\;"><span style="font-family:arial\;">The 2025 BBQ &amp\; Brew Festival is an Official Qualifier for the Jack Daniels Invitations BBQ World Champions and the 1st leg of the Big Dog Sauce New England Triple Crown!&nbsp\; Guaranteed $10\,000 in prize winnings!&nbsp\;&nbsp\;<br />\n<br />\nThe BBQ &amp\; Brew has all the BBQ choices you could possibly want to choose from!&nbsp\; Plus there is something for everyone!&nbsp\; There will be free kids activities including a bouncy house&nbsp\; and Cornhole Tournaments for Adults.&nbsp\;&nbsp\;<br />\n<br />\n<span style="color: rgb(94\, 94\, 94)\; text-align: center\; background-color: rgb(255\, 255\, 255)\;">This is what BBQ &amp\; Brew is really about. &nbsp\;Community! &nbsp\;Please help us support Josh&#39\;s House. &nbsp\;A portion of ALL proceeds will be donated to Josh&#39\;s House.</span></span></span>\n\n<h4 aria-level="4" class="x-el x-el-h4 c1-1 c1-2 c1-1s c1-1c c1-ad c1-16 c1-14 c1-13 c1-ag c1-b c1-34 c1-5u c1-61 c1-5w c1-5y c1-5z c1-60" data-aid="CONTACT_INTRO_HEADING_REND" data-typography="HeadingDelta" data-ux="ContentHeading" role="heading" style="box-sizing: inherit\; font-family: Helvetica\, arial\, sans-serif\; margin: 0px 0px 24px\; overflow-wrap: break-word\; color: rgb(27\, 27\, 27)\; font-size: 24px\; font-weight: 400\; line-height: 1.25\; background-color: rgb(255\, 255\, 255)\;"><br />\n<span style="font-size:14px\;"><span style="font-family:arial\;">For Questions about BBQ &amp\; Brew</span></span></h4>\n\n<div class="x-el c1-1 c1-2 c1-1s c1-1c c1-4u c1-13 c1-ag c1-8b c1-al c1-am c1-an c1-ao c1-ap c1-aq c1-ar c1-as c1-at c1-au c1-av c1-aw c1-ax c1-ay c1-az c1-b0 c1-b1 c1-b2 c1-b3 c1-b4 c1-b5 c1-b6 c1-b7 c1-b8 c1-b9 c1-ba c1-bb c1-bc c1-bd c1-be c1-bf c1-bg c1-b c1-3r c1-c c1-61 c1-d c1-e c1-f c1-g x-rt" data-aid="CONTACT_INTRO_DESC_REND" data-typography="BodyAlpha" data-ux="ContentText" style="box-sizing: inherit\; font-family: Helvetica\, arial\, sans-serif\; font-size: 18px\; margin-top: 0px\; overflow-wrap: break-word\; color: rgb(94\, 94\, 94)\; line-height: 1.5\; text-wrap: pretty\; margin-bottom: 24px\; background-color: rgb(255\, 255\, 255)\;">\n<p style="box-sizing: inherit\; margin: 0px\;"><span style="font-size:14px\;"><span style="font-family:arial\;"><span style="box-sizing: inherit\;">Call us at &nbsp\;(802) 491-3008 &nbsp\;or</span></span></span></p>\n\n<p style="box-sizing: inherit\; margin: 0px\;"><span style="font-size:14px\;"><span style="font-family:arial\;"><span style="box-sizing: inherit\;">Email us at&nbsp\;<a class="x-el x-el-a c1-1p c1-1q c1-8l c1-1s c1-1c c1-1t c1-1u c1-8n c1-b c1-21 c1-22 c1-23 c1-24" href="mailto:bbqandbrew@completeticketsolutions.com" style="box-sizing: inherit\; background-color: transparent\; color: rgb(158\, 109\, 0)\; overflow-wrap: break-word\; letter-spacing: inherit\; text-transform: inherit\; display: inline\; cursor: pointer\; font-weight: inherit\; font-size: unset\;" target="_blank">bbqandbrew@completeticketsolutions.com</a></span></span></span></p>\n</div>\n
LOCATION:Vermont State Fairgrounds 175 South Main Street Rutland\, VT
UID:e.3464.9510
SEQUENCE:3
DTSTAMP:20260421T131959Z
URL:https://members.rutlandvermont.com/events/details/bbq-brew-9510
END:VEVENT

END:VCALENDAR
