BEGIN:VCALENDAR
VERSION:2.0
PRODID:-//ChamberMaster//Event Calendar 2.0//EN
METHOD:PUBLISH
X-PUBLISHED-TTL:P3D
REFRESH-INTERVAL:P3D
CALSCALE:GREGORIAN
BEGIN:VEVENT
DTSTART:20250705T160000Z
DTEND:20250705T200000Z
X-MICROSOFT-CDO-ALLDAYEVENT:FALSE
SUMMARY:Behind the Inn on July 5th
DESCRIPTION:The Brandon Area Toy Project is pleased to once again host an amazing event Behind the Brandon Inn!\n\nThis year we have partnered with Whirlie's World to bring you a BOUNCEAPALOOZA!!!!!! \n\nThat's right\, bounce away and have a great afternoon! But wait- there's more!\n\nWe'll have vendors with sweet treats\, icy treats\, fun treats at reasonable prices! Probably hot dogs. Ice Cream at 22 Park St. Who knows what else?\n\nOh yes! We are going to make an attempt to live stream Ozzy's Concert from Wembley Stadium! Why? Because I'm not gonna miss it!\n\nAnd neither are you! We will see you BEHIND THE INN!!
X-ALT-DESC;FMTTYPE=text/html:<span style="font-family:aptos\,sans-serif\;"><span style="font-size:12.0pt\;">The Brandon Area Toy Project is pleased to once again host an amazing event Behind the Brandon Inn!<br />\nThis year we have partnered with Whirlie&rsquo\;s World to bring you a BOUNCEAPALOOZA!!!!!!&nbsp\;</span></span><br />\nThat&rsquo\;s right\, bounce away and have a great afternoon! But wait- there&rsquo\;s more!<br />\nWe&rsquo\;ll have vendors with sweet treats\, icy treats\, fun treats at reasonable prices! Probably hot dogs. Ice Cream at 22 Park St. Who knows what else?<br />\nOh yes! We are going to make an attempt to live stream Ozzy&rsquo\;s Concert from Wembley Stadium! Why? Because I&rsquo\;m not gonna miss it!<br />\nAnd neither are you! We will see you BEHIND THE INN!!<br />\n&nbsp\;
LOCATION:Behind the Brandon Inn
UID:e.3464.11489
SEQUENCE:3
DTSTAMP:20260421T120455Z
URL:https://members.rutlandvermont.com/events/details/behind-the-inn-on-july-5th-11489
END:VEVENT

END:VCALENDAR
