BEGIN:VCALENDAR
VERSION:2.0
PRODID:-//ChamberMaster//Event Calendar 2.0//EN
METHOD:PUBLISH
X-PUBLISHED-TTL:P3D
REFRESH-INTERVAL:P3D
CALSCALE:GREGORIAN
BEGIN:VEVENT
DTSTART:20250627T133000Z
DTEND:20250627T183000Z
X-MICROSOFT-CDO-ALLDAYEVENT:FALSE
SUMMARY:Brandon Farmers Market
DESCRIPTION:
X-ALT-DESC;FMTTYPE=text/html:
LOCATION:Central Park on Conant Square Brandon\, VT
UID:e.3464.9672
SEQUENCE:3
DTSTAMP:20260421T132542Z
URL:https://members.rutlandvermont.com/events/details/brandon-farmers-market-06-27-2025-9672
END:VEVENT

END:VCALENDAR
