BEGIN:VCALENDAR
VERSION:2.0
PRODID:-//ChamberMaster//Event Calendar 2.0//EN
METHOD:PUBLISH
X-PUBLISHED-TTL:P3D
REFRESH-INTERVAL:P3D
CALSCALE:GREGORIAN
BEGIN:VEVENT
DTSTART:20250704T133000Z
DTEND:20250704T183000Z
X-MICROSOFT-CDO-ALLDAYEVENT:FALSE
SUMMARY:Brandon Farmers Market
DESCRIPTION:
X-ALT-DESC;FMTTYPE=text/html:
LOCATION:Central Park on Conant Square Brandon\, VT
UID:e.3464.9673
SEQUENCE:3
DTSTAMP:20260421T120853Z
URL:https://members.rutlandvermont.com/events/details/brandon-farmers-market-07-04-2025-9673
END:VEVENT

END:VCALENDAR
