BEGIN:VCALENDAR
VERSION:2.0
PRODID:-//ChamberMaster//Event Calendar 2.0//EN
METHOD:PUBLISH
X-PUBLISHED-TTL:P3D
REFRESH-INTERVAL:P3D
CALSCALE:GREGORIAN
BEGIN:VEVENT
DTSTART:20250705T140000Z
DTEND:20250706T010000Z
X-MICROSOFT-CDO-ALLDAYEVENT:FALSE
SUMMARY:Brandon Independence Day Celebration
DESCRIPTION:To celebrate Independence Day\, Brandon will be featuring a parade\, music in the parks\, contests\, beer garden\, street dance and fireworks at dusk right from downtown.\n\nIf you are going to pick one Vermont town to visit on Saturday\, July 5\, 2025\, you'll want to choose Brandon. This small town knows how to throw a party and there are free events planned from morning to night and for everyone in the family. Brandon has been celebrating Independence Day with a grand parade for decades. This year\, besides the procession there will be bands in the parks\, the Heritage train giving rides up Park Street and two auction sites where you can take home winnings on the same day. Additionally\, there will be a beer garden\, music in the parks\, our world-famous Little Debbie Swiss Cake Roll Eating Contest\, an evening street dance and fireworks at dusk that can be seen from up to a mile away. With its newly revitalized streetscape\, multiple downtown pocket parks and waterfalls\, gorgeous historic architecture\, quaint shops\, and multiple lodging options and restaurants\, Brandon is a top choice for visitors from all over and for all ages. Brandon is situated at the crossroads between Routes 7 and 73 between lakes and mountains. The Moosalamoo National Recreation Area is just up the road a piece and Branbury State Park is just a stone throw's away. Start making your plans to be in Brandon on July 5. Brandon's Favorite Day!
X-ALT-DESC;FMTTYPE=text/html:<div class="font-semibold mb-2" style="box-sizing: border-box\; border-width: 0px\; border-style: solid\; border-color: rgb(229\, 231\, 235)\; --tw-border-spacing-x: 0\; --tw-border-spacing-y: 0\; --tw-translate-x: 0\; --tw-translate-y: 0\; --tw-rotate: 0\; --tw-skew-x: 0\; --tw-skew-y: 0\; --tw-scale-x: 1\; --tw-scale-y: 1\; --tw-pan-x: \; --tw-pan-y: \; --tw-pinch-zoom: \; --tw-scroll-snap-strictness: proximity\; --tw-gradient-from-position: \; --tw-gradient-via-position: \; --tw-gradient-to-position: \; --tw-ordinal: \; --tw-slashed-zero: \; --tw-numeric-figure: \; --tw-numeric-spacing: \; --tw-numeric-fraction: \; --tw-ring-inset: \; --tw-ring-offset-width: 0px\; --tw-ring-offset-color: #fff\; --tw-ring-color: rgb(59 130 246 / 0.5)\; --tw-ring-offset-shadow: 0 0 #0000\; --tw-ring-shadow: 0 0 #0000\; --tw-shadow: 0 0 #0000\; --tw-shadow-colored: 0 0 #0000\; --tw-blur: \; --tw-brightness: \; --tw-contrast: \; --tw-grayscale: \; --tw-hue-rotate: \; --tw-invert: \; --tw-saturate: \; --tw-sepia: \; --tw-drop-shadow: \; --tw-backdrop-blur: \; --tw-backdrop-brightness: \; --tw-backdrop-contrast: \; --tw-backdrop-grayscale: \; --tw-backdrop-hue-rotate: \; --tw-backdrop-invert: \; --tw-backdrop-opacity: \; --tw-backdrop-saturate: \; --tw-backdrop-sepia: \; text-size-adjust: none\; margin-bottom: 8px\; font-weight: 600\; color: rgb(17\, 24\, 39)\; font-family: ui-sans-serif\, system-ui\, -apple-system\, BlinkMacSystemFont\, &quot\;Segoe UI&quot\;\, Roboto\, &quot\;Helvetica Neue&quot\;\, Arial\, &quot\;Noto Sans&quot\;\, sans-serif\, &quot\;Apple Color Emoji&quot\;\, &quot\;Segoe UI Emoji&quot\;\, &quot\;Segoe UI Symbol&quot\;\, &quot\;Noto Color Emoji&quot\;\; font-size: 16px\;">To celebrate Independence Day\, Brandon will be featuring a parade\, music in the parks\, contests\, beer garden\, street dance and fireworks at dusk right from downtown.</div>\n\n<div class="mt-6 mb-2 whitespace-pre-wrap text-gray-700" style="box-sizing: border-box\; border-width: 0px\; border-style: solid\; border-color: rgb(229\, 231\, 235)\; --tw-border-spacing-x: 0\; --tw-border-spacing-y: 0\; --tw-translate-x: 0\; --tw-translate-y: 0\; --tw-rotate: 0\; --tw-skew-x: 0\; --tw-skew-y: 0\; --tw-scale-x: 1\; --tw-scale-y: 1\; --tw-pan-x: \; --tw-pan-y: \; --tw-pinch-zoom: \; --tw-scroll-snap-strictness: proximity\; --tw-gradient-from-position: \; --tw-gradient-via-position: \; --tw-gradient-to-position: \; --tw-ordinal: \; --tw-slashed-zero: \; --tw-numeric-figure: \; --tw-numeric-spacing: \; --tw-numeric-fraction: \; --tw-ring-inset: \; --tw-ring-offset-width: 0px\; --tw-ring-offset-color: #fff\; --tw-ring-color: rgb(59 130 246 / 0.5)\; --tw-ring-offset-shadow: 0 0 #0000\; --tw-ring-shadow: 0 0 #0000\; --tw-shadow: 0 0 #0000\; --tw-shadow-colored: 0 0 #0000\; --tw-blur: \; --tw-brightness: \; --tw-contrast: \; --tw-grayscale: \; --tw-hue-rotate: \; --tw-invert: \; --tw-saturate: \; --tw-sepia: \; --tw-drop-shadow: \; --tw-backdrop-blur: \; --tw-backdrop-brightness: \; --tw-backdrop-contrast: \; --tw-backdrop-grayscale: \; --tw-backdrop-hue-rotate: \; --tw-backdrop-invert: \; --tw-backdrop-opacity: \; --tw-backdrop-saturate: \; --tw-backdrop-sepia: \; text-size-adjust: none\; margin-bottom: 8px\; margin-top: 24px\; white-space-collapse: preserve\; --tw-text-opacity: 1\; color: rgb(55\, 65\, 81)\; font-family: ui-sans-serif\, system-ui\, -apple-system\, BlinkMacSystemFont\, &quot\;Segoe UI&quot\;\, Roboto\, &quot\;Helvetica Neue&quot\;\, Arial\, &quot\;Noto Sans&quot\;\, sans-serif\, &quot\;Apple Color Emoji&quot\;\, &quot\;Segoe UI Emoji&quot\;\, &quot\;Segoe UI Symbol&quot\;\, &quot\;Noto Color Emoji&quot\;\; font-size: 16px\; word-break: break-word\;">If you are going to pick one Vermont town to visit on Saturday\, July 5\, 2025\, you&rsquo\;ll want to choose Brandon. This small town knows how to throw a party and there are free events planned from morning to night and for everyone in the family. Brandon has been celebrating Independence Day with a grand parade for decades. This year\, besides the procession there will be bands in the parks\, the Heritage train giving rides up Park Street and two auction sites where you can take home winnings on the same day. Additionally\, there will be a beer garden\, music in the parks\, our world-famous Little Debbie Swiss Cake Roll Eating Contest\, an evening street dance and fireworks at dusk that can be seen from up to a mile away. With its newly revitalized streetscape\, multiple downtown pocket parks and waterfalls\, gorgeous historic architecture\, quaint shops\, and multiple lodging options and restaurants\, Brandon is a top choice for visitors from all over and for all ages. Brandon is situated at the crossroads between Routes 7 and 73 between lakes and mountains. The Moosalamoo National Recreation Area is just up the road a piece and Branbury State Park is just a stone throw&rsquo\;s away. Start making your plans to be in Brandon on July 5. Brandon&rsquo\;s Favorite Day!</div>\n
LOCATION:Brandon Central Park Union Street Brandon 05733
UID:e.3464.9824
SEQUENCE:3
DTSTAMP:20260421T114708Z
URL:https://members.rutlandvermont.com/events/details/brandon-independence-day-celebration-9824
END:VEVENT

END:VCALENDAR
