BEGIN:VCALENDAR
VERSION:2.0
PRODID:-//ChamberMaster//Event Calendar 2.0//EN
METHOD:PUBLISH
X-PUBLISHED-TTL:P3D
REFRESH-INTERVAL:P3D
CALSCALE:GREGORIAN
BEGIN:VEVENT
DTSTART:20251219T210000Z
DTEND:20251220T000000Z
X-MICROSOFT-CDO-ALLDAYEVENT:FALSE
SUMMARY:Brandon Winter Village: Where Holiday Magic Meets Local Charm
DESCRIPTION:Come to downtown Brandon for a European-style Christmas Market! Imagine cozy booths and glowing tents snuggled together\, holiday music\, twinkling lights\, spicy sausage sandwiches\, hot mulled wine\, handmade crafts and gifts\, fresh greenery\, rich cocoa\, live performances\, warm fires\, cafe tables\, rosy cheeks. On Saturdays there will be games\, crafts\, and entertainment for children at the Brandon Town Hall. Each evening there will be hot food\, warm drinks\, live entertainment\, and shopping in the outdoor Winter Village.
X-ALT-DESC;FMTTYPE=text/html:Come to downtown Brandon for a European-style Christmas Market! Imagine cozy booths and glowing tents snuggled together\, holiday music\, twinkling lights\, spicy sausage sandwiches\, hot mulled wine\, handmade crafts and gifts\, fresh greenery\, rich cocoa\, live performances\, warm fires\, cafe tables\, rosy cheeks. On Saturdays there will be games\, crafts\, and entertainment for children at the Brandon Town Hall. Each evening there will be hot food\, warm drinks\, live entertainment\, and shopping in the outdoor Winter Village.
LOCATION:Green Park\, Center Street\, Brandon
UID:e.3464.12569
SEQUENCE:3
DTSTAMP:20260420T083719Z
URL:https://members.rutlandvermont.com/events/details/brandon-winter-village-where-holiday-magic-meets-local-charm-12569
END:VEVENT

END:VCALENDAR
