BEGIN:VCALENDAR
VERSION:2.0
PRODID:-//ChamberMaster//Event Calendar 2.0//EN
METHOD:PUBLISH
X-PUBLISHED-TTL:P3D
REFRESH-INTERVAL:P3D
CALSCALE:GREGORIAN
BEGIN:VEVENT
DTSTART:20250802T140000Z
DTEND:20250802T160000Z
X-MICROSOFT-CDO-ALLDAYEVENT:FALSE
SUMMARY:Capturing The Wonders of Nature: Nature Journaling
DESCRIPTION:Dates are July 19\, July 26\, and August 2\, 10 a.m. - 12 p.m. The Godnick Center is offering a nature journaling class! Join Laura Beltran\, Certified Nature Journaling Educator (Wild Wonder Foundation)\, for a three-session\, hands-on journey into nature journaling. Whether you like to draw\, write\, or simply enjoy being outside\, this course invites you to connect with nature in a meaningful way. We'll explore techniques like sketching\, note-taking\, mapping\, and creative writing both indoors and out (weather permitting). No experience needed just bring a pencil\, journal\, portable chair\, and your sense of wonder.
X-ALT-DESC;FMTTYPE=text/html:Dates are July 19\, July 26\, and August 2\, 10 a.m. - 12 p.m. The Godnick Center is offering a nature journaling class! Join Laura Beltran\, Certified Nature Journaling Educator (Wild Wonder Foundation)\, for a three-session\, hands-on journey into nature journaling. Whether you like to draw\, write\, or simply enjoy being outside\, this course invites you to connect with nature in a meaningful way. We&#39\;ll explore techniques like sketching\, note-taking\, mapping\, and creative writing&mdash\;both indoors and out (weather permitting). No experience needed&mdash\;just bring a pencil\, journal\, portable chair\, and your sense of wonder.
LOCATION:Giorgetti/Pine Hill Park\, 2 Oak Street Ext. Rutland\, 05701
UID:e.3464.12039
SEQUENCE:3
DTSTAMP:20260421T132732Z
URL:https://members.rutlandvermont.com/events/details/capturing-the-wonders-of-nature-nature-journaling-08-02-2025-12039
END:VEVENT

END:VCALENDAR
