BEGIN:VCALENDAR
VERSION:2.0
PRODID:-//ChamberMaster//Event Calendar 2.0//EN
METHOD:PUBLISH
X-PUBLISHED-TTL:P3D
REFRESH-INTERVAL:P3D
CALSCALE:GREGORIAN
BEGIN:VEVENT
DTSTART:20250816T140000Z
DTEND:20250816T190000Z
X-MICROSOFT-CDO-ALLDAYEVENT:FALSE
SUMMARY:Castleton Colonial Day House Tour
DESCRIPTION:The 85th Annual Castleton Colonial Day House Tour is Saturday August 16 from 10am to 3pm. Tour features exhibits\, antique tools\, carriage collection and period fashion display.\n\nStep back in time as hostesses in Colonial attire greet guests in homes along Castleton's historic Main Street during the 85th Annual Colonial Day House Tour\, Saturday August 16th. The Castleton Woman's Club sponsors this annual event featuring over a dozen sites throughout the village including outstanding period homes\, public buildings and historic sites. The Federated Church on Main Street\, described as builder Thomas Royal Dake's architectural masterpiece\, is a popular stop on the tour. The pulpit\, with its intricate moldings and panels is one of the most extraordinary in the state. Dake is famous for his beautifully scaled spiral staircases which can be seen in some of the homes on the tour. There will be a quilt display at the Church as well. At the Higley House\, home of the Castleton Historical Society\, visitors can tour the exhibits\, antique tools\, carriage collection and period fashion display of 19th century clothing and accessories. On display at the Higley House will be the famous Blue Cat Quilt depicting historic landmarks in town and highlights from the book The Blue Cat of Castleton. The 2025 Castleton Colonial Day House Tour will be held rain or shine Saturday\, August 16th from 10am to 3pm.
X-ALT-DESC;FMTTYPE=text/html:<div class="font-semibold mb-2" style="box-sizing: border-box\; border-width: 0px\; border-style: solid\; border-color: rgb(229\, 231\, 235)\; --tw-border-spacing-x: 0\; --tw-border-spacing-y: 0\; --tw-translate-x: 0\; --tw-translate-y: 0\; --tw-rotate: 0\; --tw-skew-x: 0\; --tw-skew-y: 0\; --tw-scale-x: 1\; --tw-scale-y: 1\; --tw-pan-x: \; --tw-pan-y: \; --tw-pinch-zoom: \; --tw-scroll-snap-strictness: proximity\; --tw-gradient-from-position: \; --tw-gradient-via-position: \; --tw-gradient-to-position: \; --tw-ordinal: \; --tw-slashed-zero: \; --tw-numeric-figure: \; --tw-numeric-spacing: \; --tw-numeric-fraction: \; --tw-ring-inset: \; --tw-ring-offset-width: 0px\; --tw-ring-offset-color: #fff\; --tw-ring-color: rgb(59 130 246 / 0.5)\; --tw-ring-offset-shadow: 0 0 #0000\; --tw-ring-shadow: 0 0 #0000\; --tw-shadow: 0 0 #0000\; --tw-shadow-colored: 0 0 #0000\; --tw-blur: \; --tw-brightness: \; --tw-contrast: \; --tw-grayscale: \; --tw-hue-rotate: \; --tw-invert: \; --tw-saturate: \; --tw-sepia: \; --tw-drop-shadow: \; --tw-backdrop-blur: \; --tw-backdrop-brightness: \; --tw-backdrop-contrast: \; --tw-backdrop-grayscale: \; --tw-backdrop-hue-rotate: \; --tw-backdrop-invert: \; --tw-backdrop-opacity: \; --tw-backdrop-saturate: \; --tw-backdrop-sepia: \; text-size-adjust: none\; margin-bottom: 8px\; font-weight: 600\; color: rgb(17\, 24\, 39)\; font-family: ui-sans-serif\, system-ui\, -apple-system\, BlinkMacSystemFont\, &quot\;Segoe UI&quot\;\, Roboto\, &quot\;Helvetica Neue&quot\;\, Arial\, &quot\;Noto Sans&quot\;\, sans-serif\, &quot\;Apple Color Emoji&quot\;\, &quot\;Segoe UI Emoji&quot\;\, &quot\;Segoe UI Symbol&quot\;\, &quot\;Noto Color Emoji&quot\;\; font-size: 16px\;">The 85th Annual Castleton Colonial Day House Tour is Saturday August 16 from 10am to 3pm. Tour features exhibits\, antique tools\, carriage collection and period fashion display.</div>\n\n<div class="mt-6 mb-2 whitespace-pre-wrap text-gray-700" style="box-sizing: border-box\; border-width: 0px\; border-style: solid\; border-color: rgb(229\, 231\, 235)\; --tw-border-spacing-x: 0\; --tw-border-spacing-y: 0\; --tw-translate-x: 0\; --tw-translate-y: 0\; --tw-rotate: 0\; --tw-skew-x: 0\; --tw-skew-y: 0\; --tw-scale-x: 1\; --tw-scale-y: 1\; --tw-pan-x: \; --tw-pan-y: \; --tw-pinch-zoom: \; --tw-scroll-snap-strictness: proximity\; --tw-gradient-from-position: \; --tw-gradient-via-position: \; --tw-gradient-to-position: \; --tw-ordinal: \; --tw-slashed-zero: \; --tw-numeric-figure: \; --tw-numeric-spacing: \; --tw-numeric-fraction: \; --tw-ring-inset: \; --tw-ring-offset-width: 0px\; --tw-ring-offset-color: #fff\; --tw-ring-color: rgb(59 130 246 / 0.5)\; --tw-ring-offset-shadow: 0 0 #0000\; --tw-ring-shadow: 0 0 #0000\; --tw-shadow: 0 0 #0000\; --tw-shadow-colored: 0 0 #0000\; --tw-blur: \; --tw-brightness: \; --tw-contrast: \; --tw-grayscale: \; --tw-hue-rotate: \; --tw-invert: \; --tw-saturate: \; --tw-sepia: \; --tw-drop-shadow: \; --tw-backdrop-blur: \; --tw-backdrop-brightness: \; --tw-backdrop-contrast: \; --tw-backdrop-grayscale: \; --tw-backdrop-hue-rotate: \; --tw-backdrop-invert: \; --tw-backdrop-opacity: \; --tw-backdrop-saturate: \; --tw-backdrop-sepia: \; text-size-adjust: none\; margin-bottom: 8px\; margin-top: 24px\; white-space-collapse: preserve\; --tw-text-opacity: 1\; color: rgb(55\, 65\, 81)\; font-family: ui-sans-serif\, system-ui\, -apple-system\, BlinkMacSystemFont\, &quot\;Segoe UI&quot\;\, Roboto\, &quot\;Helvetica Neue&quot\;\, Arial\, &quot\;Noto Sans&quot\;\, sans-serif\, &quot\;Apple Color Emoji&quot\;\, &quot\;Segoe UI Emoji&quot\;\, &quot\;Segoe UI Symbol&quot\;\, &quot\;Noto Color Emoji&quot\;\; font-size: 16px\; word-break: break-word\;">Step back in time as hostesses in Colonial attire greet guests in homes along Castleton&#39\;s historic Main Street during the 85th Annual Colonial Day House Tour\, Saturday August 16th. The Castleton Woman&rsquo\;s Club sponsors this annual event featuring over a dozen sites throughout the village including outstanding period homes\, public buildings and historic sites. The Federated Church on Main Street\, described as builder Thomas Royal Dake&rsquo\;s architectural masterpiece\, is a popular stop on the tour. The pulpit\, with its intricate moldings and panels is one of the most extraordinary in the state. Dake is famous for his beautifully scaled spiral staircases which can be seen in some of the homes on the tour. There will be a quilt display at the Church as well. At the Higley House\, home of the Castleton Historical Society\, visitors can tour the exhibits\, antique tools\, carriage collection and period fashion display of 19th century clothing and accessories. On display at the Higley House will be the famous Blue Cat Quilt depicting historic landmarks in town and highlights from the book The Blue Cat of Castleton. The 2025 Castleton Colonial Day House Tour will be held rain or shine Saturday\, August 16th from 10am to 3pm.</div>\n
LOCATION:Castleton Village Main Street Castleton 05735
UID:e.3464.9955
SEQUENCE:3
DTSTAMP:20260421T132135Z
URL:https://members.rutlandvermont.com/events/details/castleton-colonial-day-house-tour-9955
END:VEVENT

END:VCALENDAR
