BEGIN:VCALENDAR
VERSION:2.0
PRODID:-//ChamberMaster//Event Calendar 2.0//EN
METHOD:PUBLISH
X-PUBLISHED-TTL:P3D
REFRESH-INTERVAL:P3D
CALSCALE:GREGORIAN
BEGIN:VEVENT
DTSTART:20250716T163000Z
DTEND:20250716T173000Z
X-MICROSOFT-CDO-ALLDAYEVENT:FALSE
SUMMARY:Chair Yoga
DESCRIPTION:Chair Yoga is a modified form of Yoga where traditional Yoga poses are practiced while sitting in a chair or using a chair for support. It is an accessible and gentle way for people of all abilities to enjoy the benefits of Yoga\, including increased flexibility\, strength\, balance\, and relaxation.
X-ALT-DESC;FMTTYPE=text/html:Chair Yoga is a modified form of Yoga where traditional Yoga poses are practiced while sitting in a chair or using a chair for support. It is an accessible and gentle way for people of all abilities to enjoy the benefits of Yoga\, including increased flexibility\, strength\, balance\, and relaxation.<br />\n&nbsp\;
LOCATION:Petra's Wellness Studio 41 East Center Street Rutland\, VT 05701
UID:e.3464.12003
SEQUENCE:3
DTSTAMP:20260421T120456Z
URL:https://members.rutlandvermont.com/events/details/chair-yoga-12003
END:VEVENT

END:VCALENDAR
