BEGIN:VCALENDAR
VERSION:2.0
PRODID:-//ChamberMaster//Event Calendar 2.0//EN
METHOD:PUBLISH
X-PUBLISHED-TTL:P3D
REFRESH-INTERVAL:P3D
CALSCALE:GREGORIAN
BEGIN:VEVENT
DTSTART:20250716T220000Z
DTEND:20250717T000000Z
X-MICROSOFT-CDO-ALLDAYEVENT:FALSE
SUMMARY:Cody Tyler@Lake House on Bomoseen
DESCRIPTION:Join Cody Tyler for a peaceful night of country music on the dock at The Lake House Pub on Bomoseen.\n\nYou could call Cody Tyler "red dirt country\," but the rocky soil in coal country and the rust belt\, where his family has been rooted for centuries\, is a few shades darker. The majority of Cody's songs are the product of his musings while hunting and hiking deep in the Pennsylvania wilderness\, particularly the middle area of the state he lovingly refers to as "Pennsyltucky."\n\nShaped by his blue collar truck-driving ancestors\, Cody is an old soul\, drawing influence from the likes of Waylon Jennings\, The Allman Brothers Band\, The Steel Woods\, and Sturgill Simpson. With his well-seasoned baritone voice and guitars that resonate a road-worn tone\, Cody's sound exhibits a northern rural attitude and powerful delivery that can only be described as Black Dirt Country.\n\nYou could call Cody Tyler "red dirt country\," but the rocky soil in coal country and the rust belt\, where his family has been rooted for centuries\, is a few shades darker. The majority of Cody's songs are the product of his musings while hunting and hiking deep in the Pennsylvania wilderness\, particularly the middle area of the state he lovingly refers to as "Pennsyltucky."\n\nShaped by his blue collar truck-driving ancestors\, Cody is an old soul\, drawing influence from the likes of Waylon Jennings\, The Allman Brothers Band\, The Steel Woods\, and Sturgill Simpson. With his well-seasoned baritone voice and guitars that resonate a road-worn tone\, Cody's sound exhibits a northern rural attitude and powerful delivery that can only be described as Black Dirt Country.
X-ALT-DESC;FMTTYPE=text/html:Join Cody Tyler for a peaceful night of country music on the dock at The Lake House Pub on Bomoseen.<br />\nYou could call Cody Tyler &ldquo\;red dirt country\,&rdquo\; but the rocky soil in coal country and the rust belt\, where his family has been rooted for centuries\, is a few shades darker. The majority of Cody&rsquo\;s songs are the product of his musings while hunting and hiking deep in the Pennsylvania wilderness\, particularly the middle area of the state he lovingly refers to as &ldquo\;Pennsyltucky.&rdquo\;<br />\nShaped by his blue collar truck-driving ancestors\, Cody is an old soul\, drawing influence from the likes of Waylon Jennings\, The Allman Brothers Band\, The Steel Woods\, and Sturgill Simpson. With his well-seasoned baritone voice and guitars that resonate a road-worn tone\, Cody&rsquo\;s sound exhibits a northern rural attitude and powerful delivery that can only be described as Black Dirt Country.<br />\nYou could call Cody Tyler &ldquo\;red dirt country\,&rdquo\; but the rocky soil in coal country and the rust belt\, where his family has been rooted for centuries\, is a few shades darker. The majority of Cody&rsquo\;s songs are the product of his musings while hunting and hiking deep in the Pennsylvania wilderness\, particularly the middle area of the state he lovingly refers to as &ldquo\;Pennsyltucky.&rdquo\;<br />\nShaped by his blue collar truck-driving ancestors\, Cody is an old soul\, drawing influence from the likes of Waylon Jennings\, The Allman Brothers Band\, The Steel Woods\, and Sturgill Simpson. With his well-seasoned baritone voice and guitars that resonate a road-worn tone\, Cody&rsquo\;s sound exhibits a northern rural attitude and powerful delivery that can only be described as Black Dirt Country.<br />\n&nbsp\;
LOCATION:Lake House Pub & Grille 3569 Route 30 N Bomoseen\, VT
UID:e.3464.11988
SEQUENCE:3
DTSTAMP:20260421T120808Z
URL:https://members.rutlandvermont.com/events/details/cody-tyler-lake-house-on-bomoseen-11988
END:VEVENT

END:VCALENDAR
