BEGIN:VCALENDAR
VERSION:2.0
PRODID:-//ChamberMaster//Event Calendar 2.0//EN
METHOD:PUBLISH
X-PUBLISHED-TTL:P3D
REFRESH-INTERVAL:P3D
CALSCALE:GREGORIAN
BEGIN:VEVENT
DTSTART:20250625T210000Z
DTEND:20250625T233000Z
X-MICROSOFT-CDO-ALLDAYEVENT:FALSE
SUMMARY:Community Craft Circle
DESCRIPTION:Come meet some crafty neighbors and share your current project. All arts and crafts are welcome\, as long as they fit in your lap or on a table! Please bring whatever tools or materials you need for your project.
X-ALT-DESC;FMTTYPE=text/html:<span style="color: rgb(98\, 98\, 98)\; font-family: Raleway\, sans-serif\; font-size: 14px\;">Come meet some crafty neighbors and share your current project. All arts and crafts are welcome\, as long as they fit in your lap or on a table! Please bring whatever tools or materials you need for your project.</span>
LOCATION:REclaimED Community Skills Center 169 Main Street\, Poultney\, VT
UID:e.3464.9664
SEQUENCE:3
DTSTAMP:20260421T132007Z
URL:https://members.rutlandvermont.com/events/details/community-craft-circle-9664
END:VEVENT

END:VCALENDAR
