BEGIN:VCALENDAR
VERSION:2.0
PRODID:-//ChamberMaster//Event Calendar 2.0//EN
METHOD:PUBLISH
X-PUBLISHED-TTL:P3D
REFRESH-INTERVAL:P3D
CALSCALE:GREGORIAN
BEGIN:VEVENT
DTSTART:20250626T130000Z
DTEND:20250626T160000Z
X-MICROSOFT-CDO-ALLDAYEVENT:FALSE
SUMMARY:Create Art Studio Camp
DESCRIPTION:Let's play with paint! Campers will spend the week drawing and painting with various mediums...watercolor\, pastel\, acrylic and more! Instructor: Deb Dauphinais Minimum enrollment: 5 MUST PRE-REGISTER at https://chaffeeartcenter.square.site
X-ALT-DESC;FMTTYPE=text/html:<span style="color: rgb(55\, 65\, 81)\; font-family: ui-sans-serif\, system-ui\, -apple-system\, BlinkMacSystemFont\, &quot\;Segoe UI&quot\;\, Roboto\, &quot\;Helvetica Neue&quot\;\, Arial\, &quot\;Noto Sans&quot\;\, sans-serif\, &quot\;Apple Color Emoji&quot\;\, &quot\;Segoe UI Emoji&quot\;\, &quot\;Segoe UI Symbol&quot\;\, &quot\;Noto Color Emoji&quot\;\; font-size: 16px\; white-space-collapse: preserve\;">Let&#39\;s play with paint! Campers will spend the week drawing and painting with various mediums...watercolor\, pastel\, acrylic and more! Instructor: Deb Dauphinais Minimum enrollment: 5 MUST PRE-REGISTER at https://chaffeeartcenter.square.site</span>
LOCATION:Chaffee Art Center 16 South Main Street Rutland 05701
UID:e.3464.9787
SEQUENCE:3
DTSTAMP:20260421T132023Z
URL:https://members.rutlandvermont.com/events/details/create-art-studio-camp-06-26-2025-9787
END:VEVENT

END:VCALENDAR
