BEGIN:VCALENDAR
VERSION:2.0
PRODID:-//ChamberMaster//Event Calendar 2.0//EN
METHOD:PUBLISH
X-PUBLISHED-TTL:P3D
REFRESH-INTERVAL:P3D
CALSCALE:GREGORIAN
BEGIN:VEVENT
DTSTART:20250620T160000Z
DTEND:20250620T180000Z
X-MICROSOFT-CDO-ALLDAYEVENT:FALSE
SUMMARY:Crochet (for teens!)
DESCRIPTION:Join us in the teen room for some free crochet. We'll have an instructor available for guidance and some supplies to get you started\, but feel free to bring your own project!\n\nAges 12-18. No registration required.
X-ALT-DESC;FMTTYPE=text/html:<p style="margin: 0px 0px 1em\; padding: 0px\; box-sizing: border-box\; line-height: 1.5\; color: rgb(0\, 0\, 0)\; font-family: georgia\; font-size: 16px\;">Join us in the teen room for some free crochet. We&#39\;ll have an instructor available for guidance and some supplies to get you started\, but feel free to bring your own project!</p>\n\n<p style="margin: 0px 0px 1em\; padding: 0px\; box-sizing: border-box\; line-height: 1.5\; color: rgb(0\, 0\, 0)\; font-family: georgia\; font-size: 16px\;">Ages 12-18. No registration required.</p>\n
LOCATION:Rutland Free Library10 Court St \, Rutland \, VT\, 05701
UID:e.3464.10087
SEQUENCE:3
DTSTAMP:20260421T132022Z
URL:https://members.rutlandvermont.com/events/details/crochet-for-teens-10087
END:VEVENT

END:VCALENDAR
