BEGIN:VCALENDAR
VERSION:2.0
PRODID:-//ChamberMaster//Event Calendar 2.0//EN
METHOD:PUBLISH
X-PUBLISHED-TTL:P3D
REFRESH-INTERVAL:P3D
CALSCALE:GREGORIAN
BEGIN:VEVENT
DTSTART:20250628T153000Z
DTEND:20250628T170000Z
X-MICROSOFT-CDO-ALLDAYEVENT:FALSE
SUMMARY:Customer Appreciation BBQ Party
DESCRIPTION:We're celebrating 68 years of Customer Appreciation! Pit master Todd Boutwell will be grilling brisket and pulled pork! Soda and chips will be provided. Come one\, come all and join the fun!
X-ALT-DESC;FMTTYPE=text/html:<span style="color: rgb(226\, 229\, 233)\; font-family: &quot\;Segoe UI Historic&quot\;\, &quot\;Segoe UI&quot\;\, Helvetica\, Arial\, sans-serif\; font-size: 15px\; background-color: rgb(37\, 39\, 40)\;">We&#39\;re celebrating 68 years of Customer Appreciation! Pit master Todd Boutwell will be grilling brisket and pulled pork! Soda and chips will be provided. Come one\, come all and join the fun!</span>
LOCATION:427 Route 4a W Bomoseen\, VT 05732
UID:e.3464.10314
SEQUENCE:3
DTSTAMP:20260421T132104Z
URL:https://members.rutlandvermont.com/events/details/customer-appreciation-bbq-party-10314
END:VEVENT

END:VCALENDAR
