BEGIN:VCALENDAR
VERSION:2.0
PRODID:-//ChamberMaster//Event Calendar 2.0//EN
METHOD:PUBLISH
X-PUBLISHED-TTL:P3D
REFRESH-INTERVAL:P3D
CALSCALE:GREGORIAN
BEGIN:VEVENT
DTSTART:20190519T200000Z
DTEND:20190519T210000Z
X-MICROSOFT-CDO-ALLDAYEVENT:FALSE
SUMMARY:Dinoman Dinosaurs
DESCRIPTION:With magic\, merry mayhem\, and magnificent props\, the audience is taken on a trip throughout the mesozoic era. How do we know dinosaurs were here? What is a fossil? How are they made? This program is fun and informative for all ages. Dinoman Dinosaurs! has garnered a "Best Bet" from the LA Times\, quoted in the Wall Street Journal\, and has appeared at the largest family celebration in the country Boston's First Night fifteen times. This is\, by far\, our most popular show.
X-ALT-DESC;FMTTYPE=text/html:<span style="color: rgb(85\, 85\, 85)\; font-family: &quot\;Open Sans&quot\;\, arial\, sans-serif\; font-size: 15px\; background-color: rgb(236\, 246\, 232)\;">With magic\, merry mayhem\, and magnificent props\, the audience is taken on a trip throughout the mesozoic era. How do we know dinosaurs were here? What is a fossil? How are they made? This program is fun and informative for all ages. Dinoman Dinosaurs! has garnered a &ldquo\;Best Bet&rdquo\; from the LA Times\, quoted in the Wall Street Journal\, and has appeared at the largest family celebration in the country&mdash\;Boston&rsquo\;s First Night&mdash\;fifteen times. This is\, by far\, our most popular show.</span>
LOCATION:Brandon Town Hall\, 2417 Franklin St.\, Brandon\, VT 05733
UID:e.3464.57
SEQUENCE:3
DTSTAMP:20260426T032000Z
URL:https://members.rutlandvermont.com/events/details/dinoman-dinosaurs-57
END:VEVENT

END:VCALENDAR
