BEGIN:VCALENDAR
VERSION:2.0
PRODID:-//ChamberMaster//Event Calendar 2.0//EN
METHOD:PUBLISH
X-PUBLISHED-TTL:P3D
REFRESH-INTERVAL:P3D
CALSCALE:GREGORIAN
BEGIN:VEVENT
DTSTART:20211203T223000Z
DTEND:20211203T230000Z
X-MICROSOFT-CDO-ALLDAYEVENT:FALSE
SUMMARY:Downtown Tree Lighting 2021
DESCRIPTION:Nothing says "The holidays are here!" like a good old-fashioned tree lighting!\n\nJoin us in Depot Park for Santa's arrival by firetruck to light the Downtown Rutland Christmas Tree.\n\nGrab a free cup of hot cocoa from Mission City Church and enjoy a performance of holiday songs by Green Mountain Music while the Mayor of Rutland City speaks and Santa lights the tree.\n\nThe first 200 attendees will receive free holiday light specs and candy canes! Afterwards\, take a walk around Downtown Rutland to admire the festively decorated shop windows.
X-ALT-DESC;FMTTYPE=text/html:<div class="kvgmc6g5 cxmmr5t8 oygrvhab hcukyx3x c1et5uql" style="overflow-wrap: break-word\; margin: 0px\; font-family: &quot\;Segoe UI Historic&quot\;\, &quot\;Segoe UI&quot\;\, Helvetica\, Arial\, sans-serif\; color: rgb(5\, 5\, 5)\; font-size: 15px\;">Nothing says &ldquo\;The holidays are here!&rdquo\; like a good old-fashioned tree lighting!</div>\n\n<div class="o9v6fnle cxmmr5t8 oygrvhab hcukyx3x c1et5uql" style="overflow-wrap: break-word\; margin: 0.5em 0px 0px\; font-family: &quot\;Segoe UI Historic&quot\;\, &quot\;Segoe UI&quot\;\, Helvetica\, Arial\, sans-serif\; color: rgb(5\, 5\, 5)\; font-size: 15px\;">Join us in Depot Park for Santa&#39\;s arrival by firetruck to light the Downtown Rutland Christmas Tree.</div>\n\n<div class="o9v6fnle cxmmr5t8 oygrvhab hcukyx3x c1et5uql" style="overflow-wrap: break-word\; margin: 0.5em 0px 0px\; font-family: &quot\;Segoe UI Historic&quot\;\, &quot\;Segoe UI&quot\;\, Helvetica\, Arial\, sans-serif\; color: rgb(5\, 5\, 5)\; font-size: 15px\;">Grab a free cup of hot cocoa from Mission City Church and enjoy a performance of holiday songs by Green Mountain Music while the Mayor of Rutland City speaks and Santa lights the tree.</div>\n\n<div class="o9v6fnle cxmmr5t8 oygrvhab hcukyx3x c1et5uql" style="overflow-wrap: break-word\; margin: 0.5em 0px 0px\; font-family: &quot\;Segoe UI Historic&quot\;\, &quot\;Segoe UI&quot\;\, Helvetica\, Arial\, sans-serif\; color: rgb(5\, 5\, 5)\; font-size: 15px\;">The first 200 attendees will receive free holiday light specs and candy canes! Afterwards\, take a walk around Downtown Rutland to admire the festively decorated shop windows.</div>\n
LOCATION:Depot Park\, Downtown Rutland
UID:e.3464.5391
SEQUENCE:3
DTSTAMP:20260425T032101Z
URL:https://members.rutlandvermont.com/events/details/downtown-tree-lighting-2021-5391
END:VEVENT

END:VCALENDAR
