BEGIN:VCALENDAR
VERSION:2.0
PRODID:-//ChamberMaster//Event Calendar 2.0//EN
METHOD:PUBLISH
X-PUBLISHED-TTL:P3D
REFRESH-INTERVAL:P3D
CALSCALE:GREGORIAN
BEGIN:VEVENT
DTSTART:20250722T193000Z
DTEND:20250722T223000Z
X-MICROSOFT-CDO-ALLDAYEVENT:FALSE
SUMMARY:Dungeons & Dragons: Teens (ages 13-18)
DESCRIPTION:Dungeons & Dragons tabletop role-playing game for ages 13-18!\n\n \n\nJoin our Dungeon Master as you embark on this awesome journey. We'll provide the snacks and supplies- all you need is yourself\, a love of games\, and a sense of adventure. This group meets every other week in the Small Meeting Room.\n\n \n\nThe age range is strict for this program and is in place to support better and matched gameplay.
X-ALT-DESC;FMTTYPE=text/html:<p style="margin: 0px 0px 1em\; padding: 0px\; box-sizing: border-box\; line-height: 1.5\; color: rgb(0\, 0\, 0)\; font-family: georgia\; font-size: 16px\;">Dungeons &amp\; Dragons tabletop role-playing game for ages 13-18!</p>\n\n<p style="margin: 0px 0px 1em\; padding: 0px\; box-sizing: border-box\; line-height: 1.5\; color: rgb(0\, 0\, 0)\; font-family: georgia\; font-size: 16px\;">&nbsp\;</p>\n\n<p style="margin: 0px 0px 1em\; padding: 0px\; box-sizing: border-box\; line-height: 1.5\; color: rgb(0\, 0\, 0)\; font-family: georgia\; font-size: 16px\;">Join our Dungeon Master as you embark on this awesome journey. We&#39\;ll provide the snacks and supplies- all you need is yourself\, a love of games\, and a sense of adventure. This group meets every other week in the Small Meeting Room.</p>\n\n<p style="margin: 0px 0px 1em\; padding: 0px\; box-sizing: border-box\; line-height: 1.5\; color: rgb(0\, 0\, 0)\; font-family: georgia\; font-size: 16px\;">&nbsp\;</p>\n\n<p style="margin: 0px 0px 1em\; padding: 0px\; box-sizing: border-box\; line-height: 1.5\; color: rgb(0\, 0\, 0)\; font-family: georgia\; font-size: 16px\;">The age range is strict for this program and is in place to support better and matched gameplay.</p>\n
LOCATION:Small Meeting Room Rutland Free Library10 Court St \, Rutland \, VT\, 05701
UID:e.3464.12019
SEQUENCE:3
DTSTAMP:20260421T120134Z
URL:https://members.rutlandvermont.com/events/details/dungeons-dragons-teens-ages-13-18-12019
END:VEVENT

END:VCALENDAR
