BEGIN:VCALENDAR
VERSION:2.0
PRODID:-//ChamberMaster//Event Calendar 2.0//EN
METHOD:PUBLISH
X-PUBLISHED-TTL:P3D
REFRESH-INTERVAL:P3D
CALSCALE:GREGORIAN
BEGIN:VEVENT
DTSTART:20250708T120000Z
DTEND:20250708T200000Z
X-MICROSOFT-CDO-ALLDAYEVENT:FALSE
SUMMARY:Dunkin' Hiring Day
DESCRIPTION:Donuts of Rutland DBA Dunkin' is excited to host an on-site hiring event next Tuesday 07/08- for all 3 of our Rutland locations. We will be conducting on-site interviews during the following times at our Dunkin stores: 8AM-10:30AM: 142 South Main St\, Rutland 11AM-1PM: 446 West St\, Rutland 2PM-4PM: 95 Woodstock Ave\, Rutland Come grab a coffee and a new career-see you on Tuesday\, July 8th!
X-ALT-DESC;FMTTYPE=text/html:Donuts of Rutland DBA Dunkin&#39\; is excited to host an on-site hiring event next Tuesday 07/08- for all 3 of our Rutland locations. We will be conducting on-site interviews during the following times at our Dunkin stores: 8AM-10:30AM: 142 South Main St\, Rutland 11AM-1PM: 446 West St\, Rutland 2PM-4PM: 95 Woodstock Ave\, Rutland Come grab a coffee and a new career-see you on Tuesday\, July 8th!
LOCATION:Rutland\, VT
UID:e.3464.12042
SEQUENCE:3
DTSTAMP:20260421T114710Z
URL:https://members.rutlandvermont.com/events/details/dunkin-hiring-day-12042
END:VEVENT

END:VCALENDAR
