BEGIN:VCALENDAR
VERSION:2.0
PRODID:-//ChamberMaster//Event Calendar 2.0//EN
METHOD:PUBLISH
X-PUBLISHED-TTL:P3D
REFRESH-INTERVAL:P3D
CALSCALE:GREGORIAN
BEGIN:VEVENT
DTSTART:20250623T170000Z
DTEND:20250623T200000Z
X-MICROSOFT-CDO-ALLDAYEVENT:FALSE
SUMMARY:EXPLORE THE ART OF NATURE CAMP
DESCRIPTION:Explore the Art of Nature using natural elements. Rocks can be used to create sculptures\, mosaics and for mandala painting. Leaves and twigs can make a fun collage. Lots of fun surprises! Instructor: Karen Wurster Minimum enrollment: 5 MUST PRE-REGISTER
X-ALT-DESC;FMTTYPE=text/html:<span style="color: rgb(55\, 65\, 81)\; font-family: ui-sans-serif\, system-ui\, -apple-system\, BlinkMacSystemFont\, &quot\;Segoe UI&quot\;\, Roboto\, &quot\;Helvetica Neue&quot\;\, Arial\, &quot\;Noto Sans&quot\;\, sans-serif\, &quot\;Apple Color Emoji&quot\;\, &quot\;Segoe UI Emoji&quot\;\, &quot\;Segoe UI Symbol&quot\;\, &quot\;Noto Color Emoji&quot\;\; font-size: 16px\; white-space-collapse: preserve\;">Explore the Art of Nature using natural elements. Rocks can be used to create sculptures\, mosaics and for mandala painting. Leaves and twigs can make a fun collage. Lots of fun surprises! Instructor: Karen Wurster Minimum enrollment: 5 MUST PRE-REGISTER</span>
LOCATION:Chaffee Art Center 16 South Main Street Rutland 05701
UID:e.3464.9789
SEQUENCE:3
DTSTAMP:20260421T132239Z
URL:https://members.rutlandvermont.com/events/details/explore-the-art-of-nature-camp-9789
END:VEVENT

END:VCALENDAR
