BEGIN:VCALENDAR
VERSION:2.0
PRODID:-//ChamberMaster//Event Calendar 2.0//EN
METHOD:PUBLISH
X-PUBLISHED-TTL:P3D
REFRESH-INTERVAL:P3D
CALSCALE:GREGORIAN
BEGIN:VEVENT
DTSTART:20250710T230000Z
DTEND:20250711T010000Z
X-MICROSOFT-CDO-ALLDAYEVENT:FALSE
SUMMARY:Fair Haven Concerts In the Park
DESCRIPTION:Live Music in the park every Thursday night!
X-ALT-DESC;FMTTYPE=text/html:Live Music in the park every Thursday night!&nbsp\;
LOCATION:North Park Place Fork North Park Place Fork Fair Haven 05743
UID:e.3464.10882
SEQUENCE:3
DTSTAMP:20260421T121047Z
URL:https://members.rutlandvermont.com/events/details/fair-haven-concerts-in-the-park-07-10-2025-10882
END:VEVENT

END:VCALENDAR
