BEGIN:VCALENDAR
VERSION:2.0
PRODID:-//ChamberMaster//Event Calendar 2.0//EN
METHOD:PUBLISH
X-PUBLISHED-TTL:P3D
REFRESH-INTERVAL:P3D
CALSCALE:GREGORIAN
BEGIN:VEVENT
DTSTART:20250717T230000Z
DTEND:20250718T010000Z
X-MICROSOFT-CDO-ALLDAYEVENT:FALSE
SUMMARY:Fair Haven Concerts In the Park
DESCRIPTION:Live Music in the park every Thursday night!
X-ALT-DESC;FMTTYPE=text/html:Live Music in the park every Thursday night!&nbsp\;
LOCATION:North Park Place Fork North Park Place Fork Fair Haven 05743
UID:e.3464.10883
SEQUENCE:3
DTSTAMP:20260421T121046Z
URL:https://members.rutlandvermont.com/events/details/fair-haven-concerts-in-the-park-07-17-2025-10883
END:VEVENT

END:VCALENDAR
