BEGIN:VCALENDAR
VERSION:2.0
PRODID:-//ChamberMaster//Event Calendar 2.0//EN
METHOD:PUBLISH
X-PUBLISHED-TTL:P3D
REFRESH-INTERVAL:P3D
CALSCALE:GREGORIAN
BEGIN:VEVENT
DTSTART:20250719T220000Z
DTEND:20250720T010000Z
X-MICROSOFT-CDO-ALLDAYEVENT:FALSE
SUMMARY:Farm to Table Community Dinner
DESCRIPTION:Come join us for a Harvest Celebration. Sourced by local farmers. Reservations required. For questions and reservations please call Carol Stierle at 203-727-3951 or email at cstierle60@gmail.com. \n\nMusic Entertainment
X-ALT-DESC;FMTTYPE=text/html:<span style="color: rgb(97\, 97\, 97)\; font-family: Raleway\, sans-serif\; font-size: 14px\;">Come join us for a Harvest Celebration. Sourced by local farmers.&nbsp\;</span><span style="box-sizing: border-box\; margin: 0px\; padding: 0px\; border: 0px\; outline: 0px\; font-variant-numeric: inherit\; font-variant-east-asian: inherit\; font-variant-alternates: inherit\; font-variant-position: inherit\; font-variant-emoji: inherit\; font-stretch: inherit\; line-height: inherit\; font-optical-sizing: inherit\; font-size-adjust: inherit\; font-kerning: inherit\; font-feature-settings: inherit\; font-variation-settings: inherit\; vertical-align: baseline\; font-family: Raleway\, sans-serif\; font-size: 14px\; font-weight: 600\; color: rgb(97\, 97\, 97)\;">Reservations required.</span><span style="color: rgb(97\, 97\, 97)\; font-family: Raleway\, sans-serif\; font-size: 14px\;">&nbsp\;For questions and reservations please call Carol Stierle at 203-727-3951 or email at&nbsp\;</span><a href="mailto:cstierle60@gmail.com" rel="noreferrer noopener" style="box-sizing: border-box\; margin: 0px\; padding: 0px\; border: 0px\; outline: 0px\; font-variant-numeric: inherit\; font-variant-east-asian: inherit\; font-variant-alternates: inherit\; font-variant-position: inherit\; font-variant-emoji: inherit\; font-stretch: inherit\; line-height: inherit\; font-optical-sizing: inherit\; font-size-adjust: inherit\; font-kerning: inherit\; font-feature-settings: inherit\; font-variation-settings: inherit\; vertical-align: baseline\; font-family: Raleway\, sans-serif\; font-size: 14px\; color: rgb(51\, 51\, 51)\; text-decoration-line: none\; transition: 0.3s\;" target="_blank">cstierle60@gmail.com</a><span style="color: rgb(97\, 97\, 97)\; font-family: Raleway\, sans-serif\; font-size: 14px\;">.&nbsp\;<br />\nMusic Entertainment&nbsp\;</span>
LOCATION:East Poultney Green On the Green East Poultney\, VT 05764
UID:e.3464.9668
SEQUENCE:3
DTSTAMP:20260421T114740Z
URL:https://members.rutlandvermont.com/events/details/farm-to-table-community-dinner-9668
END:VEVENT

END:VCALENDAR
