BEGIN:VCALENDAR
VERSION:2.0
PRODID:-//ChamberMaster//Event Calendar 2.0//EN
METHOD:PUBLISH
X-PUBLISHED-TTL:P3D
REFRESH-INTERVAL:P3D
CALSCALE:GREGORIAN
BEGIN:VEVENT
DTSTART:20250706T170000Z
DTEND:20250706T190000Z
X-MICROSOFT-CDO-ALLDAYEVENT:FALSE
SUMMARY:Figure Draw Workshop
DESCRIPTION:Join us from 1-3pm on Sunday\, July 6 and draw Jon Terhune. Jon has years of experience as an art teacher and a life/art model. Bring your own supplies or try some of ours from the art bar. New supplies available for purchase in the store as well. 18+ please or 16+ with parental consent and signature.
X-ALT-DESC;FMTTYPE=text/html:<span style="color: rgb(0\, 0\, 0)\; font-family: Poppins\; font-size: 14px\;">Join us from 1-3pm on Sunday\, July 6 and draw Jon Terhune. Jon has years of experience as an art teacher and a life/art model. Bring your own supplies or try some of ours from the art bar. New supplies available for purchase in the store as well. 18+ please or 16+ with parental consent and signature.</span>
LOCATION:37 Center Street 2nd Floor Rutland\, VT 05701
UID:e.3464.9663
SEQUENCE:3
DTSTAMP:20260421T114559Z
URL:https://members.rutlandvermont.com/events/details/figure-draw-workshop-9663
END:VEVENT

END:VCALENDAR
