BEGIN:VCALENDAR
VERSION:2.0
PRODID:-//ChamberMaster//Event Calendar 2.0//EN
METHOD:PUBLISH
X-PUBLISHED-TTL:P3D
REFRESH-INTERVAL:P3D
CALSCALE:GREGORIAN
BEGIN:VEVENT
DTSTART:20250830T233000Z
DTEND:20250831T023000Z
X-MICROSOFT-CDO-ALLDAYEVENT:FALSE
SUMMARY:Final Rodeo of the Season!!!!
DESCRIPTION:Professional Rodeo at its best!!! This is the final rodeo of the summer! Don't miss the champions being crowd!!!
X-ALT-DESC;FMTTYPE=text/html:Professional Rodeo at its best!!! This is the final rodeo of the summer! Don&#39\;t miss the champions being crowd!!!
LOCATION:1683 Pond Hill Rd Castleton\, VT 05735
UID:e.3464.12028
SEQUENCE:3
DTSTAMP:20260421T132407Z
URL:https://members.rutlandvermont.com/events/details/final-rodeo-of-the-season-12028
END:VEVENT

END:VCALENDAR
