BEGIN:VCALENDAR
VERSION:2.0
PRODID:-//ChamberMaster//Event Calendar 2.0//EN
METHOD:PUBLISH
X-PUBLISHED-TTL:P3D
REFRESH-INTERVAL:P3D
CALSCALE:GREGORIAN
BEGIN:VEVENT
DTSTART:20250628T220000Z
DTEND:20250629T020000Z
X-MICROSOFT-CDO-ALLDAYEVENT:FALSE
SUMMARY:Fireworks Spectacular Independence day Celebration
DESCRIPTION:The Biggest Fireworks Display in Central Vermont!!\n\nSportsman Modifieds 44 Laps $2\,000 to win! + 50 Lap Enduro and all divisions! Rain Date Sunday June 29th at 5pm.\n\n\n\n\n\nClasses\n\nSportsman Modified\n\nLimited Sportsman\n\nNovice Sportsman\n\n500cc Mini Sprints\n\nMini Stocks\n\nCrown Vic\n\nEnduro\n\n\n\n\n\nTimes\n\nRt 22A Gates Open Hauler Parking\; 1pm\n\nPit Gates Open: 3pm\n\nGrandstand / Infield Open\; 4:30pm\n\nHot Laps: 5pm\n\nRacing: 6pm\n\nEvent Pricing\n\nGrandstand Admission: (Adults)\; $20\n\nInfield Parking\; $25\n\nKids 12 & Under FREE\n\nPit Admission: Members - $35 Non Members - $45\n\nContact:\n\nPhone: 802-265-3112\n\nEmail: devilsbowlspeedway@gmail.com
X-ALT-DESC;FMTTYPE=text/html:The Biggest Fireworks Display in Central Vermont!!<br />\nSportsman Modifieds 44 Laps $2\,000 to win! + 50 Lap Enduro and all divisions! Rain Date Sunday June 29th at 5pm.<br />\n<br />\n<br />\n<strong>Classes</strong><br />\nSportsman Modified<br />\nLimited Sportsman<br />\nNovice Sportsman<br />\n500cc Mini Sprints<br />\nMini Stocks<br />\nCrown Vic<br />\nEnduro<br />\n<br />\n<br />\n<strong>Times</strong><br />\nRt 22A Gates Open Hauler Parking\; 1pm<br />\nPit Gates Open: 3pm<br />\nGrandstand / Infield Open\; 4:30pm<br />\nHot Laps: 5pm<br />\nRacing: 6pm<br />\n<strong>Event Pricing</strong><br />\nGrandstand Admission: (Adults)\; $20<br />\nInfield Parking\; $25<br />\nKids 12 &amp\; Under FREE<br />\nPit Admission: Members - $35 Non Members - $45<br />\n<strong>Contact</strong>:<br />\nPhone: 802-265-3112<br />\nEmail:&nbsp\;<a href="mailto:devilsbowlspeedway@gmail.com">devilsbowlspeedway@gmail.com</a><br />\n&nbsp\;
LOCATION:Devils Bowl Speedway 2743 Route 22A Fair Haven\, VT 05743
UID:e.3464.11992
SEQUENCE:3
DTSTAMP:20260421T132157Z
URL:https://members.rutlandvermont.com/events/details/fireworks-spectacular-independence-day-celebration-11992
END:VEVENT

END:VCALENDAR
