BEGIN:VCALENDAR
VERSION:2.0
PRODID:-//ChamberMaster//Event Calendar 2.0//EN
METHOD:PUBLISH
X-PUBLISHED-TTL:P3D
REFRESH-INTERVAL:P3D
CALSCALE:GREGORIAN
BEGIN:VEVENT
DTSTART:20250712T140000Z
DTEND:20250712T210000Z
X-MICROSOFT-CDO-ALLDAYEVENT:FALSE
SUMMARY:First Annual "You-Pick" Lavender Festival
DESCRIPTION:Come on and see what's going on at Sunshine Village Lavender Farm! Pick your own bouquets of lavender fresh from the field.\n\nThe Pittsford Recreation Department is providing a bouncy house from Big Air Bounce for the kids. We will be giving walking tours of the farm every couple hours to share the beauty of this property. Heck\, you may want to get married here!\n\nwe will also be holding some informative workshops to talk about the wonders of lavender. There will be food trucks and vendors to peruse and we will have some of our lovely hand made personal products as well.\n\nAdmission is free so come on over and check us out.\n\nFor more info or vendor inquiries please email us at lavenderweddingvt@gmail.com
X-ALT-DESC;FMTTYPE=text/html:Come on and see what&#39\;s going on at Sunshine Village Lavender Farm! Pick your own bouquets of lavender fresh from the field.<br />\nThe Pittsford Recreation Department is providing a bouncy house from Big Air Bounce for the kids. We will be giving walking tours of the farm every couple hours to share the beauty of this property. Heck\, you may want to get married here!<br />\nwe will also be holding some informative workshops to talk about the wonders of lavender. There will be food trucks and vendors to peruse and we will have some of our lovely hand made personal products as well.<br />\nAdmission is free so come on over and check us out.<br />\nFor more info or vendor inquiries please email us at lavenderweddingvt@gmail.com<br />\n&nbsp\;
LOCATION:2636 US Route 7 Pittsford\, VT
UID:e.3464.11714
SEQUENCE:3
DTSTAMP:20260421T120845Z
URL:https://members.rutlandvermont.com/events/details/first-annual-you-pick-lavender-festival-11714
END:VEVENT

END:VCALENDAR
