BEGIN:VCALENDAR
VERSION:2.0
PRODID:-//ChamberMaster//Event Calendar 2.0//EN
METHOD:PUBLISH
X-PUBLISHED-TTL:P3D
REFRESH-INTERVAL:P3D
CALSCALE:GREGORIAN
BEGIN:VEVENT
DTSTART:20250801T200000Z
DTEND:20250801T230000Z
X-MICROSOFT-CDO-ALLDAYEVENT:FALSE
SUMMARY:Food Truck Friday and Live Music
DESCRIPTION:Join us for an evening of delicious eats\, live music and good vibes! Bring your friends and family to enjoy a variety of local food vendors serving up everything from savory bites to sweet treats.
X-ALT-DESC;FMTTYPE=text/html:Join us for an evening of delicious eats\, live music and good vibes! Bring your friends and family to enjoy a variety of local food vendors serving up everything from savory bites to sweet treats.&nbsp\;
LOCATION:West Ruland Rec Center 294 Fairview Ave West Rutland\, VT 05777
UID:e.3464.11713
SEQUENCE:3
DTSTAMP:20260421T132707Z
URL:https://members.rutlandvermont.com/events/details/food-truck-friday-and-live-music-11713
END:VEVENT

END:VCALENDAR
