BEGIN:VCALENDAR
VERSION:2.0
PRODID:-//ChamberMaster//Event Calendar 2.0//EN
METHOD:PUBLISH
X-PUBLISHED-TTL:P3D
REFRESH-INTERVAL:P3D
CALSCALE:GREGORIAN
BEGIN:VEVENT
DTSTART:20250621T210000Z
DTEND:20250621T220000Z
X-MICROSOFT-CDO-ALLDAYEVENT:FALSE
SUMMARY:Free Community Supper
DESCRIPTION:FREE Community Supper this Saturday\, June 21st from 5-6pm. See you there!
X-ALT-DESC;FMTTYPE=text/html:<span style="color: rgb(226\, 229\, 233)\; font-family: &quot\;Segoe UI Historic&quot\;\, &quot\;Segoe UI&quot\;\, Helvetica\, Arial\, sans-serif\; font-size: 15px\; background-color: rgb(37\, 39\, 40)\;">FREE Community Supper this Saturday\, June 21st from 5-6pm. See you there!</span>
LOCATION:St. Luke 146 N Main Street Fair Haven\, VT
UID:e.3464.10310
SEQUENCE:3
DTSTAMP:20260421T132024Z
URL:https://members.rutlandvermont.com/events/details/free-community-supper-10310
END:VEVENT

END:VCALENDAR
