BEGIN:VCALENDAR
VERSION:2.0
PRODID:-//ChamberMaster//Event Calendar 2.0//EN
METHOD:PUBLISH
X-PUBLISHED-TTL:P3D
REFRESH-INTERVAL:P3D
CALSCALE:GREGORIAN
BEGIN:VEVENT
DTSTART:20250711T210000Z
DTEND:20250712T020000Z
X-MICROSOFT-CDO-ALLDAYEVENT:FALSE
SUMMARY:Friday Night Live - Howie Day
DESCRIPTION:Friday\, 7/11: Friday Night Live with Howie Day\n\n\n	\n	Native of Maine\n	\n	\n	Best known for his platinum hit "Collide"\n	\n	\n	Almost 2 million monthly listeners on\n\n	Friday Night Live is a free outdoor concert series held during the summer on Center Street and Merchants Row. This fun\, family-friendly event brings the community together to experience music\, outdoor dining\, shopping\, children's activities\, and more\, starting at 5 PM. Downtown Rutland transforms into a unique concert venue with excellent acoustics. Headliners take the stage at 8 PM\, with the event ending at 10 PM.
X-ALT-DESC;FMTTYPE=text/html:<p style="margin-top: 0px\; margin-bottom: 1.6em\; overflow-wrap: break-word\; font-family: europa\; font-size: 16px\; letter-spacing: 0.64px\; white-space-collapse: preserve\; background-color: rgb(255\, 255\, 255)\;"><strong style="font-weight: bold\; overflow-wrap: break-word\;">Friday\, 7/11: Friday Night Live with </strong><a href="https://www.howieday.com/" style="background: transparent\; color: rgb(24\, 124\, 118)\; text-decoration-line: none\; overflow-wrap: break-word\;" target="_blank"><strong style="font-weight: bold\; overflow-wrap: break-word\;">Howie Day</strong></a></p>\n\n<ul data-rte-list="default" style="overflow-wrap: break-word\; margin-bottom: 0px\; font-family: europa\; font-size: 16px\; letter-spacing: 0.64px\; background-color: rgb(255\, 255\, 255)\;">\n	<li style="list-style-type: none\; overflow-wrap: break-word\;">\n	<p style="margin-top: 0.5em\; margin-bottom: 0.5em\; overflow-wrap: break-word\; white-space-collapse: preserve\;">Native of Maine</p>\n	</li>\n	<li style="list-style-type: none\; overflow-wrap: break-word\;">\n	<p style="margin-top: 0.5em\; margin-bottom: 0.5em\; overflow-wrap: break-word\; white-space-collapse: preserve\;">Best known for his platinum hit &quot\;Collide&quot\;</p>\n	</li>\n	<li style="list-style-type: none\; overflow-wrap: break-word\;">\n	<p style="margin-top: 0.5em\; margin-bottom: 0.5em\; overflow-wrap: break-word\; white-space-collapse: preserve\;">Almost 2 million monthly listeners on<br />\n	<span style="font-family: europa\; font-size: 16px\; letter-spacing: 0.64px\; white-space-collapse: preserve\; background-color: rgb(255\, 255\, 255)\;">Friday Night Live is a free outdoor concert series held during the summer on Center Street and Merchants Row. This fun\, family-friendly event brings the community together to experience music\, outdoor dining\, shopping\, children&#39\;s activities\, and more\, starting at 5 PM. Downtown Rutland transforms into a unique concert venue with excellent acoustics. Headliners take the stage at 8 PM\, with the event ending at 10 PM.</span></p>\n	</li>\n</ul>\n
LOCATION:Downtown Rutland\, Vermont
UID:e.3464.9652
SEQUENCE:3
DTSTAMP:20260421T115810Z
URL:https://members.rutlandvermont.com/events/details/friday-night-live-howie-day-9652
END:VEVENT

END:VCALENDAR
