BEGIN:VCALENDAR
VERSION:2.0
PRODID:-//ChamberMaster//Event Calendar 2.0//EN
METHOD:PUBLISH
X-PUBLISHED-TTL:P3D
REFRESH-INTERVAL:P3D
CALSCALE:GREGORIAN
BEGIN:VEVENT
DTSTART:20250810T160000Z
DTEND:20250810T180000Z
X-MICROSOFT-CDO-ALLDAYEVENT:FALSE
SUMMARY:Gather Together @ reMake/The MINT
DESCRIPTION:Gather Together\n\nSocial Tinkering: A Human Connection Project\n\n \nGather Together is our monthly meetup where anyone in our community can come hang out and build their social network. Move to the area recently? Going through a big life transition and looking to meet new folks? Wanting to counter your social anxiety and get a little connection practice?\n\n \n\nOne of the biggest barriers to meaningful connection is simply needing a place to go to meet people and hang out. We've got you covered!\n\n \n\nGather Together is a great space to hang out\, simply be yourself\, and build your social network.\n\n \n\nHow it works:\n\n1. We greet you at the door\, so you don't wonder if you're in the right place.\n\n2. We orient you to the room\, snacks\, name tags.\n\n3. We introduce you to other folks to help you get started.\n\n4. Our hosts loosely facilitate the social\, ensuring everyone is able to participate comfortably in their own unique way.\n\n \n\nWe have light refreshments and available games and activities for all ages. Bring yourself\, a neighbor\, your family. Feel free to sit and knit or draw while you listen and chat with others. Most of all\, just be yourself!
X-ALT-DESC;FMTTYPE=text/html:<strong>Gather Together<br />\n<a href="https://www.socialtinkering.org/">Social Tinkering: <em>A Human Connection Project</em></a></strong><br />\n&nbsp\;\n<p class="font_7 wixui-rich-text__text" style="background: transparent\; border: 0px\; outline: 0px\; padding: 0px\; vertical-align: baseline\; pointer-events: auto\; font-variant-numeric: normal\; font-variant-east-asian: normal\; font-variant-alternates: normal\; font-size-adjust: none\; font-kerning: auto\; font-optical-sizing: auto\; font-feature-settings: normal\; font-variation-settings: normal\; font-variant-position: normal\; font-variant-emoji: normal\; font-stretch: normal\; font-size: 16px\; line-height: 22.4px\; font-family: helvetica-w01-light\, sans-serif\; color: rgb(55\, 53\, 47)\; margin-block: 0px\; margin: 0px\; text-align: center\;"><span style="font-size:14px\;"><span style="font-family:arial\;">Gather Together is our monthly meetup where anyone in our community can come hang out and build their social network. Move to the area recently? Going through a big life transition and looking to meet new folks? Wanting to counter your social anxiety and get a little connection practice?</span></span></p>\n\n<p class="font_7 wixui-rich-text__text" style="background: transparent\; border: 0px\; outline: 0px\; padding: 0px\; vertical-align: baseline\; pointer-events: auto\; font-variant-numeric: normal\; font-variant-east-asian: normal\; font-variant-alternates: normal\; font-size-adjust: none\; font-kerning: auto\; font-optical-sizing: auto\; font-feature-settings: normal\; font-variation-settings: normal\; font-variant-position: normal\; font-variant-emoji: normal\; font-stretch: normal\; font-size: 16px\; line-height: 22.4px\; font-family: helvetica-w01-light\, sans-serif\; color: rgb(55\, 53\, 47)\; margin-block: 0px\; margin: 0px\; text-align: center\;">&nbsp\;</p>\n\n<p class="font_7 wixui-rich-text__text" style="background: transparent\; border: 0px\; outline: 0px\; padding: 0px\; vertical-align: baseline\; pointer-events: auto\; font-variant-numeric: normal\; font-variant-east-asian: normal\; font-variant-alternates: normal\; font-size-adjust: none\; font-kerning: auto\; font-optical-sizing: auto\; font-feature-settings: normal\; font-variation-settings: normal\; font-variant-position: normal\; font-variant-emoji: normal\; font-stretch: normal\; font-size: 16px\; line-height: 22.4px\; font-family: helvetica-w01-light\, sans-serif\; color: rgb(55\, 53\, 47)\; margin-block: 0px\; margin: 0px\; text-align: center\;"><span style="font-size:14px\;"><span style="font-family:arial\;">One of the biggest barriers to meaningful connection is simply needing a place to go to meet people and hang out. We&#39\;ve got you covered!</span></span></p>\n\n<p class="font_7 wixui-rich-text__text" style="background: transparent\; border: 0px\; outline: 0px\; padding: 0px\; vertical-align: baseline\; pointer-events: auto\; font-variant-numeric: normal\; font-variant-east-asian: normal\; font-variant-alternates: normal\; font-size-adjust: none\; font-kerning: auto\; font-optical-sizing: auto\; font-feature-settings: normal\; font-variation-settings: normal\; font-variant-position: normal\; font-variant-emoji: normal\; font-stretch: normal\; font-size: 16px\; line-height: 22.4px\; font-family: helvetica-w01-light\, sans-serif\; color: rgb(55\, 53\, 47)\; margin-block: 0px\; margin: 0px\; text-align: center\;"><span style="font-size:14px\;"><span style="font-family:arial\;"><span class="wixGuard wixui-rich-text__text" style="background: transparent\; border: 0px\; margin: 0px\; outline: 0px\; padding: 0px\; vertical-align: baseline\;">&#8203\;</span></span></span></p>\n\n<p class="font_7 wixui-rich-text__text" style="background: transparent\; border: 0px\; outline: 0px\; padding: 0px\; vertical-align: baseline\; pointer-events: auto\; font-variant-numeric: normal\; font-variant-east-asian: normal\; font-variant-alternates: normal\; font-size-adjust: none\; font-kerning: auto\; font-optical-sizing: auto\; font-feature-settings: normal\; font-variation-settings: normal\; font-variant-position: normal\; font-variant-emoji: normal\; font-stretch: normal\; font-size: 16px\; line-height: 22.4px\; font-family: helvetica-w01-light\, sans-serif\; color: rgb(55\, 53\, 47)\; margin-block: 0px\; margin: 0px\; text-align: center\;"><span style="font-size:14px\;"><span style="font-family:arial\;">Gather Together is a great space to hang out\, simply be yourself\, and build your social network.</span></span></p>\n\n<p class="font_7 wixui-rich-text__text" style="background: transparent\; border: 0px\; outline: 0px\; padding: 0px\; vertical-align: baseline\; pointer-events: auto\; font-variant-numeric: normal\; font-variant-east-asian: normal\; font-variant-alternates: normal\; font-size-adjust: none\; font-kerning: auto\; font-optical-sizing: auto\; font-feature-settings: normal\; font-variation-settings: normal\; font-variant-position: normal\; font-variant-emoji: normal\; font-stretch: normal\; font-size: 16px\; line-height: 22.4px\; font-family: helvetica-w01-light\, sans-serif\; color: rgb(55\, 53\, 47)\; margin-block: 0px\; margin: 0px\; text-align: center\;"><span style="font-size:14px\;"><span style="font-family:arial\;"><span class="wixui-rich-text__text" style="background: transparent\; border: 0px\; margin: 0px\; outline: 0px\; padding: 0px\; vertical-align: baseline\;">&#8203\;</span></span></span></p>\n\n<p class="font_7 wixui-rich-text__text" style="background: transparent\; border: 0px\; outline: 0px\; padding: 0px\; vertical-align: baseline\; pointer-events: auto\; font-variant-numeric: normal\; font-variant-east-asian: normal\; font-variant-alternates: normal\; font-size-adjust: none\; font-kerning: auto\; font-optical-sizing: auto\; font-feature-settings: normal\; font-variation-settings: normal\; font-variant-position: normal\; font-variant-emoji: normal\; font-stretch: normal\; font-size: 16px\; line-height: 22.4px\; font-family: helvetica-w01-light\, sans-serif\; color: rgb(55\, 53\, 47)\; margin-block: 0px\; margin: 0px\;"><span style="font-size:14px\;"><span style="font-family:arial\;">How it works:</span></span></p>\n\n<p class="font_7 wixui-rich-text__text" style="background: transparent\; border: 0px\; outline: 0px\; padding: 0px\; vertical-align: baseline\; pointer-events: auto\; font-variant-numeric: normal\; font-variant-east-asian: normal\; font-variant-alternates: normal\; font-size-adjust: none\; font-kerning: auto\; font-optical-sizing: auto\; font-feature-settings: normal\; font-variation-settings: normal\; font-variant-position: normal\; font-variant-emoji: normal\; font-stretch: normal\; font-size: 16px\; line-height: 22.4px\; font-family: helvetica-w01-light\, sans-serif\; color: rgb(55\, 53\, 47)\; margin-block: 0px\; margin: 0px\;"><span style="font-size:14px\;"><span style="font-family:arial\;">1. We greet you at the door\, so you don&#39\;t wonder if you&#39\;re in the right place.</span></span></p>\n\n<p class="font_7 wixui-rich-text__text" style="background: transparent\; border: 0px\; outline: 0px\; padding: 0px\; vertical-align: baseline\; pointer-events: auto\; font-variant-numeric: normal\; font-variant-east-asian: normal\; font-variant-alternates: normal\; font-size-adjust: none\; font-kerning: auto\; font-optical-sizing: auto\; font-feature-settings: normal\; font-variation-settings: normal\; font-variant-position: normal\; font-variant-emoji: normal\; font-stretch: normal\; font-size: 16px\; line-height: 22.4px\; font-family: helvetica-w01-light\, sans-serif\; color: rgb(55\, 53\, 47)\; margin-block: 0px\; margin: 0px\;"><span style="font-size:14px\;"><span style="font-family:arial\;">2. We orient you to the room\, snacks\, name tags.</span></span></p>\n\n<p class="font_7 wixui-rich-text__text" style="background: transparent\; border: 0px\; outline: 0px\; padding: 0px\; vertical-align: baseline\; pointer-events: auto\; font-variant-numeric: normal\; font-variant-east-asian: normal\; font-variant-alternates: normal\; font-size-adjust: none\; font-kerning: auto\; font-optical-sizing: auto\; font-feature-settings: normal\; font-variation-settings: normal\; font-variant-position: normal\; font-variant-emoji: normal\; font-stretch: normal\; font-size: 16px\; line-height: 22.4px\; font-family: helvetica-w01-light\, sans-serif\; color: rgb(55\, 53\, 47)\; margin-block: 0px\; margin: 0px\;"><span style="font-size:14px\;"><span style="font-family:arial\;">3. We introduce you to other folks to help you get started.</span></span></p>\n\n<p class="font_7 wixui-rich-text__text" style="background: transparent\; border: 0px\; outline: 0px\; padding: 0px\; vertical-align: baseline\; pointer-events: auto\; font-variant-numeric: normal\; font-variant-east-asian: normal\; font-variant-alternates: normal\; font-size-adjust: none\; font-kerning: auto\; font-optical-sizing: auto\; font-feature-settings: normal\; font-variation-settings: normal\; font-variant-position: normal\; font-variant-emoji: normal\; font-stretch: normal\; font-size: 16px\; line-height: 22.4px\; font-family: helvetica-w01-light\, sans-serif\; color: rgb(55\, 53\, 47)\; margin-block: 0px\; margin: 0px\;"><span style="font-size:14px\;"><span style="font-family:arial\;">4. Our hosts loosely facilitate the social\, ensuring everyone is able to participate comfortably in their own unique way.</span></span></p>\n\n<p class="font_7 wixui-rich-text__text" style="background: transparent\; border: 0px\; outline: 0px\; padding: 0px\; vertical-align: baseline\; pointer-events: auto\; font-variant-numeric: normal\; font-variant-east-asian: normal\; font-variant-alternates: normal\; font-size-adjust: none\; font-kerning: auto\; font-optical-sizing: auto\; font-feature-settings: normal\; font-variation-settings: normal\; font-variant-position: normal\; font-variant-emoji: normal\; font-stretch: normal\; font-size: 16px\; line-height: 22.4px\; font-family: helvetica-w01-light\, sans-serif\; color: rgb(55\, 53\, 47)\; margin-block: 0px\; margin: 0px\;"><span style="font-size:14px\;"><span style="font-family:arial\;"><span class="wixui-rich-text__text" style="background: transparent\; border: 0px\; margin: 0px\; outline: 0px\; padding: 0px\; vertical-align: baseline\;">&#8203\;</span></span></span></p>\n\n<p class="font_7 wixui-rich-text__text" style="background: transparent\; border: 0px\; outline: 0px\; padding: 0px\; vertical-align: baseline\; pointer-events: auto\; font-variant-numeric: normal\; font-variant-east-asian: normal\; font-variant-alternates: normal\; font-size-adjust: none\; font-kerning: auto\; font-optical-sizing: auto\; font-feature-settings: normal\; font-variation-settings: normal\; font-variant-position: normal\; font-variant-emoji: normal\; font-stretch: normal\; font-size: 16px\; line-height: 22.4px\; font-family: helvetica-w01-light\, sans-serif\; color: rgb(55\, 53\, 47)\; margin-block: 0px\; margin: 0px\;"><span style="font-size:14px\;"><span style="font-family:arial\;">We have light refreshments and available games and activities for all ages. Bring yourself\, a neighbor\, your family. Feel free to sit and knit or draw while you listen and chat with others. Most of all\, just be yourself!</span></span></p>\n
LOCATION:reMake/The MINT 72 Merchants Row Rutland\, VT
UID:e.3464.12091
SEQUENCE:3
DTSTAMP:20260421T132134Z
URL:https://members.rutlandvermont.com/events/details/gather-together-remake-the-mint-12091
END:VEVENT

END:VCALENDAR
