BEGIN:VCALENDAR
VERSION:2.0
PRODID:-//ChamberMaster//Event Calendar 2.0//EN
METHOD:PUBLISH
X-PUBLISHED-TTL:P3D
REFRESH-INTERVAL:P3D
CALSCALE:GREGORIAN
BEGIN:VEVENT
DTSTART:20250819T220000Z
DTEND:20250820T000000Z
X-MICROSOFT-CDO-ALLDAYEVENT:FALSE
SUMMARY:Gather Together @ Vermont Farmers Food Center
DESCRIPTION:Social Tinkering brings you...\n\nGather Together in Rutland! Hosted by the VT Farmers Food Center in Rutland\n\n(*In the white building adjacent to the parking lot.)\n\n	An opportunity and space for people to simply meet and socialize.\n	Completely FREE\, no strings attached!\n	This is a ZERO pressure space. Feel free to chat with others as much or as little as you feel like!\n	We provide snacks\, beverages\, and activities.\n\nSome reasons to attend Gather Together:\n\nNew in town - Build community - Make new friends - Shake up routine - Practice people skills- Learn new things - Seeking advice - Work on a project in a public space - Discover common interests - Mood booster- Recharge creativity - Because you deserve to have some fun!
X-ALT-DESC;FMTTYPE=text/html:<b style="color: rgb(34\, 34\, 34)\; font-family: Arial\, sans-serif\; white-space-collapse: preserve\;">Social Tinkering brings you...</b><br style="color: rgb(34\, 34\, 34)\; font-family: Arial\, sans-serif\; white-space-collapse: preserve\;" />\n<b style="color: rgb(34\, 34\, 34)\; font-family: Arial\, sans-serif\; white-space-collapse: preserve\;">Gather Together in Rutland! Hosted by the VT Farmers Food Center in Rutland</b><br style="color: rgb(34\, 34\, 34)\; font-family: Arial\, sans-serif\; white-space-collapse: preserve\;" />\n<b style="color: rgb(34\, 34\, 34)\; font-family: Arial\, sans-serif\; white-space-collapse: preserve\;">(*In the white building adjacent to the parking lot.)</b>\n<ul style="color: rgb(34\, 34\, 34)\; font-family: Arial\, sans-serif\; white-space-collapse: preserve\;">\n	<li>An opportunity and space for people to simply meet and socialize.</li>\n	<li>Completely FREE\, no strings attached!</li>\n	<li>This is a ZERO pressure space. Feel free to chat with others as much or as little as you feel like!</li>\n	<li>We provide snacks\, beverages\, and activities.</li>\n</ul>\n<b style="color: rgb(34\, 34\, 34)\; font-family: Arial\, sans-serif\; white-space-collapse: preserve\;">Some reasons to attend Gather Together:</b><br style="color: rgb(34\, 34\, 34)\; font-family: Arial\, sans-serif\; white-space-collapse: preserve\;" />\n<span style="color: rgb(34\, 34\, 34)\; font-family: Arial\, sans-serif\; white-space-collapse: preserve\;">New in town - Build community - Make new friends - Shake up routine - Practice people skills- Learn new things - Seeking advice - Work on a project in a public space - Discover common interests - Mood booster- Recharge creativity -&nbsp\;</span><b style="color: rgb(34\, 34\, 34)\; font-family: Arial\, sans-serif\; white-space-collapse: preserve\;">Because you deserve to have some fun!</b>
LOCATION:Vermont Farmers Food Center 251 West St. Rutland\, VT
UID:e.3464.12092
SEQUENCE:3
DTSTAMP:20260421T132706Z
URL:https://members.rutlandvermont.com/events/details/gather-together-vermont-farmers-food-center-12092
END:VEVENT

END:VCALENDAR
